BEGIN:VCALENDAR
VERSION:2.0
PRODID:-//MHD Formation - ECPv6.15.20//NONSGML v1.0//EN
CALSCALE:GREGORIAN
METHOD:PUBLISH
X-WR-CALNAME:MHD Formation
X-ORIGINAL-URL:https://mhd-formation.com
X-WR-CALDESC:Évènements pour MHD Formation
REFRESH-INTERVAL;VALUE=DURATION:PT1H
X-Robots-Tag:noindex
X-PUBLISHED-TTL:PT1H
BEGIN:VTIMEZONE
TZID:Europe/Paris
BEGIN:DAYLIGHT
TZOFFSETFROM:+0100
TZOFFSETTO:+0200
TZNAME:CEST
DTSTART:20250330T010000
END:DAYLIGHT
BEGIN:STANDARD
TZOFFSETFROM:+0200
TZOFFSETTO:+0100
TZNAME:CET
DTSTART:20251026T010000
END:STANDARD
BEGIN:DAYLIGHT
TZOFFSETFROM:+0100
TZOFFSETTO:+0200
TZNAME:CEST
DTSTART:20260329T010000
END:DAYLIGHT
BEGIN:STANDARD
TZOFFSETFROM:+0200
TZOFFSETTO:+0100
TZNAME:CET
DTSTART:20261025T010000
END:STANDARD
BEGIN:DAYLIGHT
TZOFFSETFROM:+0100
TZOFFSETTO:+0200
TZNAME:CEST
DTSTART:20270328T010000
END:DAYLIGHT
BEGIN:STANDARD
TZOFFSETFROM:+0200
TZOFFSETTO:+0100
TZNAME:CET
DTSTART:20271031T010000
END:STANDARD
END:VTIMEZONE
BEGIN:VEVENT
DTSTART;TZID=Europe/Paris:20260323T090000
DTEND;TZID=Europe/Paris:20260323T170000
DTSTAMP:20260423T182958
CREATED:20251214T122526Z
LAST-MODIFIED:20251215T083945Z
UID:10000359-1774256400-1774285200@mhd-formation.com
SUMMARY:LES FONDAMENTAUX DU COACHING-26-03-23
DESCRIPTION:
URL:https://mhd-formation.com/event/les-fondamentaux-du-coaching-26-03-23-2/
LOCATION:Paris – Ivry sur Seine\, 33 bd de Brandebourg\, Ivry sur Seine\, 94200\, France
CATEGORIES:Coaching
END:VEVENT
BEGIN:VEVENT
DTSTART;TZID=Europe/Paris:20260322T090000
DTEND;TZID=Europe/Paris:20260322T170000
DTSTAMP:20260423T182958
CREATED:20251214T122526Z
LAST-MODIFIED:20251215T083944Z
UID:10000357-1774170000-1774198800@mhd-formation.com
SUMMARY:COACHING ET MODELE D'HUDSON-26-03-20
DESCRIPTION:
URL:https://mhd-formation.com/event/coaching-et-modele-dhudson-26-03-20-3/
LOCATION:Paris – Ivry sur Seine\, 33 bd de Brandebourg\, Ivry sur Seine\, 94200\, France
CATEGORIES:Spécialisations coaching
END:VEVENT
BEGIN:VEVENT
DTSTART;TZID=Europe/Paris:20260321T090000
DTEND;TZID=Europe/Paris:20260321T170000
DTSTAMP:20260423T182958
CREATED:20251214T122500Z
LAST-MODIFIED:20251215T083943Z
UID:10000356-1774083600-1774112400@mhd-formation.com
SUMMARY:COACHING ET MODELE D'HUDSON-26-03-20
DESCRIPTION:
URL:https://mhd-formation.com/event/coaching-et-modele-dhudson-26-03-20-2/
LOCATION:Paris – Ivry sur Seine\, 33 bd de Brandebourg\, Ivry sur Seine\, 94200\, France
END:VEVENT
BEGIN:VEVENT
DTSTART;TZID=Europe/Paris:20260320T090000
DTEND;TZID=Europe/Paris:20260320T170000
DTSTAMP:20260423T182958
CREATED:20251214T122500Z
LAST-MODIFIED:20251215T083943Z
UID:10000353-1773997200-1774026000@mhd-formation.com
SUMMARY:COACHING ET MODELE D'HUDSON-26-03-20
DESCRIPTION:
URL:https://mhd-formation.com/event/coaching-et-modele-dhudson-26-03-20/
LOCATION:Paris – Ivry sur Seine\, 33 bd de Brandebourg\, Ivry sur Seine\, 94200\, France
END:VEVENT
BEGIN:VEVENT
DTSTART;TZID=Europe/Paris:20260320T090000
DTEND;TZID=Europe/Paris:20260320T170000
DTSTAMP:20260423T182958
CREATED:20251214T122500Z
LAST-MODIFIED:20251215T083943Z
UID:10000355-1773997200-1774026000@mhd-formation.com
SUMMARY:MAITRE PRATICIEN HYPNOSE-26-02-09
DESCRIPTION:
URL:https://mhd-formation.com/event/maitre-praticien-hypnose-26-02-09-10/
LOCATION:Paris – Ivry sur Seine\, 33 bd de Brandebourg\, Ivry sur Seine\, 94200\, France
END:VEVENT
BEGIN:VEVENT
DTSTART;TZID=Europe/Paris:20260319T090000
DTEND;TZID=Europe/Paris:20260319T170000
DTSTAMP:20260423T182958
CREATED:20251214T122500Z
LAST-MODIFIED:20251215T083943Z
UID:10000352-1773910800-1773939600@mhd-formation.com
SUMMARY:MAITRE PRATICIEN HYPNOSE-26-02-09
DESCRIPTION:
URL:https://mhd-formation.com/event/maitre-praticien-hypnose-26-02-09-9/
LOCATION:Paris – Ivry sur Seine\, 33 bd de Brandebourg\, Ivry sur Seine\, 94200\, France
END:VEVENT
BEGIN:VEVENT
DTSTART;TZID=Europe/Paris:20260318T090000
DTEND;TZID=Europe/Paris:20260318T170000
DTSTAMP:20260423T182958
CREATED:20251214T122410Z
LAST-MODIFIED:20251215T083937Z
UID:10000350-1773824400-1773853200@mhd-formation.com
SUMMARY:MAITRE PRATICIEN HYPNOSE-26-02-09
DESCRIPTION:
URL:https://mhd-formation.com/event/maitre-praticien-hypnose-26-02-09-8/
LOCATION:Paris – Ivry sur Seine\, 33 bd de Brandebourg\, Ivry sur Seine\, 94200\, France
END:VEVENT
BEGIN:VEVENT
DTSTART;TZID=Europe/Paris:20260317T090000
DTEND;TZID=Europe/Paris:20260317T170000
DTSTAMP:20260423T182958
CREATED:20251214T122405Z
LAST-MODIFIED:20251215T083931Z
UID:10000346-1773738000-1773766800@mhd-formation.com
SUMMARY:PRATICIEN PNL-26-01-26
DESCRIPTION:
URL:https://mhd-formation.com/event/praticien-pnl-26-01-26-10/
LOCATION:Paris – Ivry sur Seine\, 33 bd de Brandebourg\, Ivry sur Seine\, 94200\, France
END:VEVENT
BEGIN:VEVENT
DTSTART;TZID=Europe/Paris:20260316T090000
DTEND;TZID=Europe/Paris:20260316T170000
DTSTAMP:20260423T182958
CREATED:20251214T122405Z
LAST-MODIFIED:20251215T083931Z
UID:10000345-1773651600-1773680400@mhd-formation.com
SUMMARY:PRATICIEN PNL-26-01-26
DESCRIPTION:
URL:https://mhd-formation.com/event/praticien-pnl-26-01-26-9/
LOCATION:Paris – Ivry sur Seine\, 33 bd de Brandebourg\, Ivry sur Seine\, 94200\, France
END:VEVENT
BEGIN:VEVENT
DTSTART;TZID=Europe/Paris:20260315T090000
DTEND;TZID=Europe/Paris:20260315T180000
DTSTAMP:20260423T182958
CREATED:20251214T122405Z
LAST-MODIFIED:20251215T083931Z
UID:10000343-1773565200-1773597600@mhd-formation.com
SUMMARY:ENSEIGNANT PNL-24-09-12
DESCRIPTION:
URL:https://mhd-formation.com/event/enseignant-pnl-24-09-12-2/
LOCATION:Paris – Ivry sur Seine\, 33 bd de Brandebourg\, Ivry sur Seine\, 94200\, France
END:VEVENT
BEGIN:VEVENT
DTSTART;TZID=Europe/Paris:20260315T090000
DTEND;TZID=Europe/Paris:20260315T170000
DTSTAMP:20260423T182958
CREATED:20251214T122405Z
LAST-MODIFIED:20251215T083931Z
UID:10000344-1773565200-1773594000@mhd-formation.com
SUMMARY:LES FONDAMENTAUX DU COACHING-26-02-16
DESCRIPTION:
URL:https://mhd-formation.com/event/les-fondamentaux-du-coaching-26-02-16-6/
LOCATION:Paris – Ivry sur Seine\, 33 bd de Brandebourg\, Ivry sur Seine\, 94200\, France
END:VEVENT
BEGIN:VEVENT
DTSTART;TZID=Europe/Paris:20260314T090000
DTEND;TZID=Europe/Paris:20260314T180000
DTSTAMP:20260423T182958
CREATED:20251214T122403Z
LAST-MODIFIED:20251215T083930Z
UID:10000340-1773478800-1773511200@mhd-formation.com
SUMMARY:ENSEIGNANT PNL-24-09-12
DESCRIPTION:
URL:https://mhd-formation.com/event/enseignant-pnl-24-09-12/
LOCATION:Paris – Ivry sur Seine\, 33 bd de Brandebourg\, Ivry sur Seine\, 94200\, France
END:VEVENT
BEGIN:VEVENT
DTSTART;TZID=Europe/Paris:20260314T090000
DTEND;TZID=Europe/Paris:20260314T170000
DTSTAMP:20260423T182958
CREATED:20251214T122403Z
LAST-MODIFIED:20251215T083930Z
UID:10000341-1773478800-1773507600@mhd-formation.com
SUMMARY:LES FONDAMENTAUX DU COACHING-26-02-16
DESCRIPTION:
URL:https://mhd-formation.com/event/les-fondamentaux-du-coaching-26-02-16-5/
LOCATION:Paris – Ivry sur Seine\, 33 bd de Brandebourg\, Ivry sur Seine\, 94200\, France
END:VEVENT
BEGIN:VEVENT
DTSTART;TZID=Europe/Paris:20260313T090000
DTEND;TZID=Europe/Paris:20260313T170000
DTSTAMP:20260423T182958
CREATED:20251214T122403Z
LAST-MODIFIED:20251215T083930Z
UID:10000338-1773392400-1773421200@mhd-formation.com
SUMMARY:HYPNOSE POUR ENFANT ET ADO-26-03-11
DESCRIPTION:
URL:https://mhd-formation.com/event/hypnose-pour-enfant-et-ado-26-03-11-3/
LOCATION:Paris – Ivry sur Seine\, 33 bd de Brandebourg\, Ivry sur Seine\, 94200\, France
END:VEVENT
BEGIN:VEVENT
DTSTART;TZID=Europe/Paris:20260313T090000
DTEND;TZID=Europe/Paris:20260313T170000
DTSTAMP:20260423T182958
CREATED:20251214T122403Z
LAST-MODIFIED:20251215T083930Z
UID:10000339-1773392400-1773421200@mhd-formation.com
SUMMARY:LES FONDAMENTAUX DU COACHING-26-02-16
DESCRIPTION:
URL:https://mhd-formation.com/event/les-fondamentaux-du-coaching-26-02-16-4/
LOCATION:Paris – Ivry sur Seine\, 33 bd de Brandebourg\, Ivry sur Seine\, 94200\, France
END:VEVENT
BEGIN:VEVENT
DTSTART;TZID=Europe/Paris:20260312T090000
DTEND;TZID=Europe/Paris:20260312T170000
DTSTAMP:20260423T182958
CREATED:20251214T122402Z
LAST-MODIFIED:20251215T083930Z
UID:10000337-1773306000-1773334800@mhd-formation.com
SUMMARY:HYPNOSE POUR ENFANT ET ADO-26-03-11
DESCRIPTION:
URL:https://mhd-formation.com/event/hypnose-pour-enfant-et-ado-26-03-11-2/
LOCATION:Paris – Ivry sur Seine\, 33 bd de Brandebourg\, Ivry sur Seine\, 94200\, France
END:VEVENT
BEGIN:VEVENT
DTSTART;TZID=Europe/Paris:20260311T090000
DTEND;TZID=Europe/Paris:20260311T170000
DTSTAMP:20260423T182958
CREATED:20251214T122358Z
LAST-MODIFIED:20251215T083925Z
UID:10000335-1773219600-1773248400@mhd-formation.com
SUMMARY:HYPNOSE POUR ENFANT ET ADO-26-03-11
DESCRIPTION:
URL:https://mhd-formation.com/event/hypnose-pour-enfant-et-ado-26-03-11/
LOCATION:Paris – Ivry sur Seine\, 33 bd de Brandebourg\, Ivry sur Seine\, 94200\, France
END:VEVENT
BEGIN:VEVENT
DTSTART;TZID=Europe/Paris:20260306T090000
DTEND;TZID=Europe/Paris:20260306T170000
DTSTAMP:20260423T182958
CREATED:20251214T122356Z
LAST-MODIFIED:20251215T083920Z
UID:10000327-1772787600-1772816400@mhd-formation.com
SUMMARY:PRATICIEN HYPNOSE-26-03-02
DESCRIPTION:
URL:https://mhd-formation.com/event/praticien-hypnose-26-03-02-5/
LOCATION:Paris – Ivry sur Seine\, 33 bd de Brandebourg\, Ivry sur Seine\, 94200\, France
END:VEVENT
BEGIN:VEVENT
DTSTART;TZID=Europe/Paris:20260306T090000
DTEND;TZID=Europe/Paris:20260306T170000
DTSTAMP:20260423T182958
CREATED:20251214T122354Z
LAST-MODIFIED:20251215T083919Z
UID:10000326-1772787600-1772816400@mhd-formation.com
SUMMARY:MAITRE PRATICIEN HYPNOSE-26-02-09
DESCRIPTION:
URL:https://mhd-formation.com/event/maitre-praticien-hypnose-26-02-09-7/
LOCATION:Paris – Ivry sur Seine\, 33 bd de Brandebourg\, Ivry sur Seine\, 94200\, France
END:VEVENT
BEGIN:VEVENT
DTSTART;TZID=Europe/Paris:20260305T090000
DTEND;TZID=Europe/Paris:20260305T170000
DTSTAMP:20260423T182958
CREATED:20251214T122354Z
LAST-MODIFIED:20251215T083919Z
UID:10000323-1772701200-1772730000@mhd-formation.com
SUMMARY:MAITRE PRATICIEN HYPNOSE-26-02-09
DESCRIPTION:
URL:https://mhd-formation.com/event/maitre-praticien-hypnose-26-02-09-6/
LOCATION:Paris – Ivry sur Seine\, 33 bd de Brandebourg\, Ivry sur Seine\, 94200\, France
END:VEVENT
BEGIN:VEVENT
DTSTART;TZID=Europe/Paris:20260305T090000
DTEND;TZID=Europe/Paris:20260305T170000
DTSTAMP:20260423T182958
CREATED:20251214T122354Z
LAST-MODIFIED:20251215T083919Z
UID:10000324-1772701200-1772730000@mhd-formation.com
SUMMARY:PRATICIEN HYPNOSE-26-03-02
DESCRIPTION:
URL:https://mhd-formation.com/event/praticien-hypnose-26-03-02-4/
LOCATION:Paris – Ivry sur Seine\, 33 bd de Brandebourg\, Ivry sur Seine\, 94200\, France
END:VEVENT
BEGIN:VEVENT
DTSTART;TZID=Europe/Paris:20260304T090000
DTEND;TZID=Europe/Paris:20260304T170000
DTSTAMP:20260423T182958
CREATED:20251214T122353Z
LAST-MODIFIED:20251215T083915Z
UID:10000321-1772614800-1772643600@mhd-formation.com
SUMMARY:PRATICIEN PNL-26-01-26
DESCRIPTION:
URL:https://mhd-formation.com/event/praticien-pnl-26-01-26-8/
LOCATION:Paris – Ivry sur Seine\, 33 bd de Brandebourg\, Ivry sur Seine\, 94200\, France
END:VEVENT
BEGIN:VEVENT
DTSTART;TZID=Europe/Paris:20260304T090000
DTEND;TZID=Europe/Paris:20260304T170000
DTSTAMP:20260423T182958
CREATED:20251214T122352Z
LAST-MODIFIED:20251215T083915Z
UID:10000320-1772614800-1772643600@mhd-formation.com
SUMMARY:PRATICIEN HYPNOSE-26-03-02
DESCRIPTION:
URL:https://mhd-formation.com/event/praticien-hypnose-26-03-02-3/
LOCATION:Paris – Ivry sur Seine\, 33 bd de Brandebourg\, Ivry sur Seine\, 94200\, France
END:VEVENT
BEGIN:VEVENT
DTSTART;TZID=Europe/Paris:20260303T090000
DTEND;TZID=Europe/Paris:20260303T170000
DTSTAMP:20260423T182958
CREATED:20251214T122352Z
LAST-MODIFIED:20251215T083915Z
UID:10000317-1772528400-1772557200@mhd-formation.com
SUMMARY:PRATICIEN PNL-26-01-26
DESCRIPTION:
URL:https://mhd-formation.com/event/praticien-pnl-26-01-26-7/
LOCATION:Paris – Ivry sur Seine\, 33 bd de Brandebourg\, Ivry sur Seine\, 94200\, France
END:VEVENT
BEGIN:VEVENT
DTSTART;TZID=Europe/Paris:20260303T090000
DTEND;TZID=Europe/Paris:20260303T170000
DTSTAMP:20260423T182958
CREATED:20251214T122348Z
LAST-MODIFIED:20251215T083911Z
UID:10000316-1772528400-1772557200@mhd-formation.com
SUMMARY:PRATICIEN HYPNOSE-26-03-02
DESCRIPTION:
URL:https://mhd-formation.com/event/praticien-hypnose-26-03-02-2/
LOCATION:Paris – Ivry sur Seine\, 33 bd de Brandebourg\, Ivry sur Seine\, 94200\, France
CATEGORIES:Thérapies Brèves
END:VEVENT
BEGIN:VEVENT
DTSTART;TZID=Europe/Paris:20260302T090000
DTEND;TZID=Europe/Paris:20260302T170000
DTSTAMP:20260423T182958
CREATED:20251214T122348Z
LAST-MODIFIED:20251215T083911Z
UID:10000313-1772442000-1772470800@mhd-formation.com
SUMMARY:PRATICIEN HYPNOSE-26-03-02
DESCRIPTION:
URL:https://mhd-formation.com/event/praticien-hypnose-26-03-02/
LOCATION:Paris – Ivry sur Seine\, 33 bd de Brandebourg\, Ivry sur Seine\, 94200\, France
CATEGORIES:Thérapies Brèves
END:VEVENT
BEGIN:VEVENT
DTSTART;TZID=Europe/Paris:20260302T090000
DTEND;TZID=Europe/Paris:20260302T170000
DTSTAMP:20260423T182958
CREATED:20251214T122348Z
LAST-MODIFIED:20251215T083911Z
UID:10000314-1772442000-1772470800@mhd-formation.com
SUMMARY:PRATICIEN PNL-26-01-26
DESCRIPTION:
URL:https://mhd-formation.com/event/praticien-pnl-26-01-26-6/
LOCATION:Paris – Ivry sur Seine\, 33 bd de Brandebourg\, Ivry sur Seine\, 94200\, France
CATEGORIES:Thérapies Brèves
END:VEVENT
BEGIN:VEVENT
DTSTART;TZID=Europe/Paris:20260227T090000
DTEND;TZID=Europe/Paris:20260227T170000
DTSTAMP:20260423T182958
CREATED:20251214T122346Z
LAST-MODIFIED:20251215T083849Z
UID:10000309-1772182800-1772211600@mhd-formation.com
SUMMARY:TECHNICIEN PNL-26-02-23
DESCRIPTION:
URL:https://mhd-formation.com/event/technicien-pnl-26-02-23-5/
LOCATION:Paris – Ivry sur Seine\, 33 bd de Brandebourg\, Ivry sur Seine\, 94200\, France
END:VEVENT
BEGIN:VEVENT
DTSTART;TZID=Europe/Paris:20260227T090000
DTEND;TZID=Europe/Paris:20260227T170000
DTSTAMP:20260423T182958
CREATED:20251214T122346Z
LAST-MODIFIED:20251215T083849Z
UID:10000310-1772182800-1772211600@mhd-formation.com
SUMMARY:TITRE PROFESSIONNEL FORMATEUR POUR ADULTES-26-01-21
DESCRIPTION:
URL:https://mhd-formation.com/event/titre-professionnel-formateur-pour-adultes-26-01-21-6/
LOCATION:Paris – Ivry sur Seine\, 33 bd de Brandebourg\, Ivry sur Seine\, 94200\, France
END:VEVENT
BEGIN:VEVENT
DTSTART;TZID=Europe/Paris:20260226T090000
DTEND;TZID=Europe/Paris:20260226T170000
DTSTAMP:20260423T182958
CREATED:20251214T122346Z
LAST-MODIFIED:20251215T083848Z
UID:10000307-1772096400-1772125200@mhd-formation.com
SUMMARY:TECHNICIEN PNL-26-02-23
DESCRIPTION:
URL:https://mhd-formation.com/event/technicien-pnl-26-02-23-4/
LOCATION:Paris – Ivry sur Seine\, 33 bd de Brandebourg\, Ivry sur Seine\, 94200\, France
END:VEVENT
END:VCALENDAR