BEGIN:VCALENDAR
VERSION:2.0
PRODID:-//MHD Formation - ECPv6.15.20//NONSGML v1.0//EN
CALSCALE:GREGORIAN
METHOD:PUBLISH
X-WR-CALNAME:MHD Formation
X-ORIGINAL-URL:https://mhd-formation.com
X-WR-CALDESC:Évènements pour MHD Formation
REFRESH-INTERVAL;VALUE=DURATION:PT1H
X-Robots-Tag:noindex
X-PUBLISHED-TTL:PT1H
BEGIN:VTIMEZONE
TZID:Europe/Paris
BEGIN:DAYLIGHT
TZOFFSETFROM:+0100
TZOFFSETTO:+0200
TZNAME:CEST
DTSTART:20250330T010000
END:DAYLIGHT
BEGIN:STANDARD
TZOFFSETFROM:+0200
TZOFFSETTO:+0100
TZNAME:CET
DTSTART:20251026T010000
END:STANDARD
BEGIN:DAYLIGHT
TZOFFSETFROM:+0100
TZOFFSETTO:+0200
TZNAME:CEST
DTSTART:20260329T010000
END:DAYLIGHT
BEGIN:STANDARD
TZOFFSETFROM:+0200
TZOFFSETTO:+0100
TZNAME:CET
DTSTART:20261025T010000
END:STANDARD
BEGIN:DAYLIGHT
TZOFFSETFROM:+0100
TZOFFSETTO:+0200
TZNAME:CEST
DTSTART:20270328T010000
END:DAYLIGHT
BEGIN:STANDARD
TZOFFSETFROM:+0200
TZOFFSETTO:+0100
TZNAME:CET
DTSTART:20271031T010000
END:STANDARD
END:VTIMEZONE
BEGIN:VEVENT
DTSTART;TZID=Europe/Paris:20260424T090000
DTEND;TZID=Europe/Paris:20260424T170000
DTSTAMP:20260423T135243
CREATED:20251214T122550Z
LAST-MODIFIED:20251215T084013Z
UID:10000406-1777021200-1777050000@mhd-formation.com
SUMMARY:SOCLE COMMUN HYPNOSE PNL-26-04-11
DESCRIPTION:
URL:https://mhd-formation.com/event/socle-commun-hypnose-pnl-26-04-11-3/
LOCATION:Paris – Ivry sur Seine\, 33 bd de Brandebourg\, Ivry sur Seine\, 94200\, France
END:VEVENT
BEGIN:VEVENT
DTSTART;TZID=Europe/Paris:20260425T090000
DTEND;TZID=Europe/Paris:20260425T170000
DTSTAMP:20260423T135243
CREATED:20251214T122557Z
LAST-MODIFIED:20251215T084017Z
UID:10000407-1777107600-1777136400@mhd-formation.com
SUMMARY:SOCLE COMMUN HYPNOSE PNL-26-04-11
DESCRIPTION:
URL:https://mhd-formation.com/event/socle-commun-hypnose-pnl-26-04-11-4/
LOCATION:Paris – Ivry sur Seine\, 33 bd de Brandebourg\, Ivry sur Seine\, 94200\, France
END:VEVENT
BEGIN:VEVENT
DTSTART;TZID=Europe/Paris:20260426T090000
DTEND;TZID=Europe/Paris:20260426T170000
DTSTAMP:20260423T135243
CREATED:20251214T122557Z
LAST-MODIFIED:20251215T084017Z
UID:10000408-1777194000-1777222800@mhd-formation.com
SUMMARY:SOCLE COMMUN HYPNOSE PNL-26-04-11
DESCRIPTION:
URL:https://mhd-formation.com/event/socle-commun-hypnose-pnl-26-04-11-5/
LOCATION:Paris – Ivry sur Seine\, 33 bd de Brandebourg\, Ivry sur Seine\, 94200\, France
END:VEVENT
BEGIN:VEVENT
DTSTART;TZID=Europe/Paris:20260427T090000
DTEND;TZID=Europe/Paris:20260427T170000
DTSTAMP:20260423T135243
CREATED:20251214T122557Z
LAST-MODIFIED:20251215T084017Z
UID:10000409-1777280400-1777309200@mhd-formation.com
SUMMARY:LES FONDAMENTAUX DU COACHING-26-03-23
DESCRIPTION:
URL:https://mhd-formation.com/event/les-fondamentaux-du-coaching-26-03-23-4/
LOCATION:Paris – Ivry sur Seine\, 33 bd de Brandebourg\, Ivry sur Seine\, 94200\, France
END:VEVENT
BEGIN:VEVENT
DTSTART;TZID=Europe/Paris:20260428T090000
DTEND;TZID=Europe/Paris:20260428T170000
DTSTAMP:20260423T135243
CREATED:20251214T122557Z
LAST-MODIFIED:20251215T084017Z
UID:10000411-1777366800-1777395600@mhd-formation.com
SUMMARY:LES FONDAMENTAUX DU COACHING-26-03-23
DESCRIPTION:
URL:https://mhd-formation.com/event/les-fondamentaux-du-coaching-26-03-23-5/
LOCATION:Paris – Ivry sur Seine\, 33 bd de Brandebourg\, Ivry sur Seine\, 94200\, France
END:VEVENT
BEGIN:VEVENT
DTSTART;TZID=Europe/Paris:20260429T090000
DTEND;TZID=Europe/Paris:20260429T170000
DTSTAMP:20260423T135243
CREATED:20251214T122558Z
LAST-MODIFIED:20251215T084019Z
UID:10000414-1777453200-1777482000@mhd-formation.com
SUMMARY:LES FONDAMENTAUX DU COACHING-26-03-23
DESCRIPTION:
URL:https://mhd-formation.com/event/les-fondamentaux-du-coaching-26-03-23-6/
LOCATION:Paris – Ivry sur Seine\, 33 bd de Brandebourg\, Ivry sur Seine\, 94200\, France
END:VEVENT
BEGIN:VEVENT
DTSTART;TZID=Europe/Paris:20260504T090000
DTEND;TZID=Europe/Paris:20260504T170000
DTSTAMP:20260423T135243
CREATED:20251214T122603Z
LAST-MODIFIED:20251215T084024Z
UID:10000420-1777885200-1777914000@mhd-formation.com
SUMMARY:RELATION D'AIDE-26-04-02
DESCRIPTION:
URL:https://mhd-formation.com/event/relation-daide-26-04-02-4/
LOCATION:Paris – Ivry sur Seine\, 33 bd de Brandebourg\, Ivry sur Seine\, 94200\, France
END:VEVENT
BEGIN:VEVENT
DTSTART;TZID=Europe/Paris:20260505T090000
DTEND;TZID=Europe/Paris:20260505T170000
DTSTAMP:20260423T135243
CREATED:20251214T122606Z
LAST-MODIFIED:20251215T084025Z
UID:10000423-1777971600-1778000400@mhd-formation.com
SUMMARY:RELATION D'AIDE-26-04-02
DESCRIPTION:
URL:https://mhd-formation.com/event/relation-daide-26-04-02-5/
LOCATION:Paris – Ivry sur Seine\, 33 bd de Brandebourg\, Ivry sur Seine\, 94200\, France
END:VEVENT
BEGIN:VEVENT
DTSTART;TZID=Europe/Paris:20260506T090000
DTEND;TZID=Europe/Paris:20260506T170000
DTSTAMP:20260423T135243
CREATED:20251214T122607Z
LAST-MODIFIED:20251215T084025Z
UID:10000424-1778058000-1778086800@mhd-formation.com
SUMMARY:COACHING D'EQUIPE-26-04-09
DESCRIPTION:
URL:https://mhd-formation.com/event/coaching-dequipe-26-04-09-3/
LOCATION:Paris – Ivry sur Seine\, 33 bd de Brandebourg\, Ivry sur Seine\, 94200\, France
END:VEVENT
BEGIN:VEVENT
DTSTART;TZID=Europe/Paris:20260506T090000
DTEND;TZID=Europe/Paris:20260506T170000
DTSTAMP:20260423T135243
CREATED:20251214T122607Z
LAST-MODIFIED:20251215T084025Z
UID:10000426-1778058000-1778086800@mhd-formation.com
SUMMARY:RELATION D'AIDE-26-04-02
DESCRIPTION:
URL:https://mhd-formation.com/event/relation-daide-26-04-02-6/
LOCATION:Paris – Ivry sur Seine\, 33 bd de Brandebourg\, Ivry sur Seine\, 94200\, France
END:VEVENT
BEGIN:VEVENT
DTSTART;TZID=Europe/Paris:20260507T090000
DTEND;TZID=Europe/Paris:20260507T170000
DTSTAMP:20260423T135243
CREATED:20251214T122609Z
LAST-MODIFIED:20251215T084029Z
UID:10000427-1778144400-1778173200@mhd-formation.com
SUMMARY:COACHING D'EQUIPE-26-04-09
DESCRIPTION:
URL:https://mhd-formation.com/event/coaching-dequipe-26-04-09-4/
LOCATION:Paris – Ivry sur Seine\, 33 bd de Brandebourg\, Ivry sur Seine\, 94200\, France
END:VEVENT
BEGIN:VEVENT
DTSTART;TZID=Europe/Paris:20260515T090000
DTEND;TZID=Europe/Paris:20260515T170000
DTSTAMP:20260423T135243
CREATED:20251214T122610Z
LAST-MODIFIED:20251215T084029Z
UID:10000429-1778835600-1778864400@mhd-formation.com
SUMMARY:COACHING D'EQUIPE-26-04-11
DESCRIPTION:
URL:https://mhd-formation.com/event/coaching-dequipe-26-04-11-2/
LOCATION:Paris – Ivry sur Seine\, 33 bd de Brandebourg\, Ivry sur Seine\, 94200\, France
END:VEVENT
BEGIN:VEVENT
DTSTART;TZID=Europe/Paris:20260516T090000
DTEND;TZID=Europe/Paris:20260516T170000
DTSTAMP:20260423T135243
CREATED:20251214T122610Z
LAST-MODIFIED:20251215T084029Z
UID:10000431-1778922000-1778950800@mhd-formation.com
SUMMARY:COACHING D'EQUIPE-26-04-11
DESCRIPTION:
URL:https://mhd-formation.com/event/coaching-dequipe-26-04-11-3/
LOCATION:Paris – Ivry sur Seine\, 33 bd de Brandebourg\, Ivry sur Seine\, 94200\, France
END:VEVENT
BEGIN:VEVENT
DTSTART;TZID=Europe/Paris:20260516T090000
DTEND;TZID=Europe/Paris:20260516T170000
DTSTAMP:20260423T135243
CREATED:20251214T122614Z
LAST-MODIFIED:20251215T084031Z
UID:10000432-1778922000-1778950800@mhd-formation.com
SUMMARY:TECHNICIEN PNL-26-05-16
DESCRIPTION:
URL:https://mhd-formation.com/event/technicien-pnl-26-05-16/
LOCATION:Paris – Ivry sur Seine\, 33 bd de Brandebourg\, Ivry sur Seine\, 94200\, France
END:VEVENT
BEGIN:VEVENT
DTSTART;TZID=Europe/Paris:20260517T090000
DTEND;TZID=Europe/Paris:20260517T170000
DTSTAMP:20260423T135243
CREATED:20251214T122614Z
LAST-MODIFIED:20251215T084032Z
UID:10000433-1779008400-1779037200@mhd-formation.com
SUMMARY:TECHNICIEN PNL-26-05-16
DESCRIPTION:
URL:https://mhd-formation.com/event/technicien-pnl-26-05-16-2/
LOCATION:Paris – Ivry sur Seine\, 33 bd de Brandebourg\, Ivry sur Seine\, 94200\, France
END:VEVENT
BEGIN:VEVENT
DTSTART;TZID=Europe/Paris:20260518T090000
DTEND;TZID=Europe/Paris:20260518T170000
DTSTAMP:20260423T135243
CREATED:20251214T122615Z
LAST-MODIFIED:20251215T084032Z
UID:10000436-1779094800-1779123600@mhd-formation.com
SUMMARY:LES FONDAMENTAUX DU COACHING-26-05-18
DESCRIPTION:
URL:https://mhd-formation.com/event/les-fondamentaux-du-coaching-26-05-18-2/
LOCATION:Paris – Ivry sur Seine\, 33 bd de Brandebourg\, Ivry sur Seine\, 94200\, France
END:VEVENT
BEGIN:VEVENT
DTSTART;TZID=Europe/Paris:20260519T090000
DTEND;TZID=Europe/Paris:20260519T170000
DTSTAMP:20260423T135243
CREATED:20251214T122623Z
LAST-MODIFIED:20251215T084038Z
UID:10000437-1779181200-1779210000@mhd-formation.com
SUMMARY:LES FONDAMENTAUX DU COACHING-26-05-18
DESCRIPTION:
URL:https://mhd-formation.com/event/les-fondamentaux-du-coaching-26-05-18-3/
LOCATION:Paris – Ivry sur Seine\, 33 bd de Brandebourg\, Ivry sur Seine\, 94200\, France
END:VEVENT
BEGIN:VEVENT
DTSTART;TZID=Europe/Paris:20260521T090000
DTEND;TZID=Europe/Paris:20260521T170000
DTSTAMP:20260423T135243
CREATED:20251214T122624Z
LAST-MODIFIED:20251215T084038Z
UID:10000441-1779354000-1779382800@mhd-formation.com
SUMMARY:QUALIFICATION COACH PROFESSIONNEL-26-05-21
DESCRIPTION:
URL:https://mhd-formation.com/event/qualification-coach-professionnel-26-05-21-2/
LOCATION:Paris – Ivry sur Seine\, 33 bd de Brandebourg\, Ivry sur Seine\, 94200\, France
END:VEVENT
BEGIN:VEVENT
DTSTART;TZID=Europe/Paris:20260522T090000
DTEND;TZID=Europe/Paris:20260522T170000
DTSTAMP:20260423T135243
CREATED:20251214T122629Z
LAST-MODIFIED:20251215T084040Z
UID:10000443-1779440400-1779469200@mhd-formation.com
SUMMARY:QUALIFICATION COACH PROFESSIONNEL-26-05-21
DESCRIPTION:
URL:https://mhd-formation.com/event/qualification-coach-professionnel-26-05-21-3/
LOCATION:Paris – Ivry sur Seine\, 33 bd de Brandebourg\, Ivry sur Seine\, 94200\, France
CATEGORIES:Coaching
END:VEVENT
BEGIN:VEVENT
DTSTART;TZID=Europe/Paris:20260523T090000
DTEND;TZID=Europe/Paris:20260523T170000
DTSTAMP:20260423T135243
CREATED:20251214T122630Z
LAST-MODIFIED:20251215T084040Z
UID:10000444-1779526800-1779555600@mhd-formation.com
SUMMARY:PRATICIEN HYPNOSE-26-05-23
DESCRIPTION:
URL:https://mhd-formation.com/event/praticien-hypnose-26-05-23/
LOCATION:Paris – Ivry sur Seine\, 33 bd de Brandebourg\, Ivry sur Seine\, 94200\, France
CATEGORIES:Thérapies Brèves
END:VEVENT
END:VCALENDAR