BEGIN:VCALENDAR
VERSION:2.0
PRODID:-//MHD Formation - ECPv6.15.20//NONSGML v1.0//EN
CALSCALE:GREGORIAN
METHOD:PUBLISH
X-WR-CALNAME:MHD Formation
X-ORIGINAL-URL:https://mhd-formation.com
X-WR-CALDESC:Évènements pour MHD Formation
REFRESH-INTERVAL;VALUE=DURATION:PT1H
X-Robots-Tag:noindex
X-PUBLISHED-TTL:PT1H
BEGIN:VTIMEZONE
TZID:Europe/Paris
BEGIN:DAYLIGHT
TZOFFSETFROM:+0100
TZOFFSETTO:+0200
TZNAME:CEST
DTSTART:20250330T010000
END:DAYLIGHT
BEGIN:STANDARD
TZOFFSETFROM:+0200
TZOFFSETTO:+0100
TZNAME:CET
DTSTART:20251026T010000
END:STANDARD
BEGIN:DAYLIGHT
TZOFFSETFROM:+0100
TZOFFSETTO:+0200
TZNAME:CEST
DTSTART:20260329T010000
END:DAYLIGHT
BEGIN:STANDARD
TZOFFSETFROM:+0200
TZOFFSETTO:+0100
TZNAME:CET
DTSTART:20261025T010000
END:STANDARD
BEGIN:DAYLIGHT
TZOFFSETFROM:+0100
TZOFFSETTO:+0200
TZNAME:CEST
DTSTART:20270328T010000
END:DAYLIGHT
BEGIN:STANDARD
TZOFFSETFROM:+0200
TZOFFSETTO:+0100
TZNAME:CET
DTSTART:20271031T010000
END:STANDARD
END:VTIMEZONE
BEGIN:VEVENT
DTSTART;TZID=Europe/Paris:20260207T090000
DTEND;TZID=Europe/Paris:20260207T170000
DTSTAMP:20260426T042139
CREATED:20251214T122307Z
LAST-MODIFIED:20251215T083714Z
UID:10000257-1770454800-1770483600@mhd-formation.com
SUMMARY:COACHING SCOLAIRE-26-01-09
DESCRIPTION:
URL:https://mhd-formation.com/event/coaching-scolaire-26-01-09-4/
LOCATION:Paris – Ivry sur Seine\, 33 bd de Brandebourg\, Ivry sur Seine\, 94200\, France
END:VEVENT
BEGIN:VEVENT
DTSTART;TZID=Europe/Paris:20260208T090000
DTEND;TZID=Europe/Paris:20260208T170000
DTSTAMP:20260426T042139
CREATED:20251214T122307Z
LAST-MODIFIED:20251215T083714Z
UID:10000258-1770541200-1770570000@mhd-formation.com
SUMMARY:COACHING D'EQUIPE-26-01-10
DESCRIPTION:
URL:https://mhd-formation.com/event/coaching-dequipe-26-01-10-7/
LOCATION:Paris – Ivry sur Seine\, 33 bd de Brandebourg\, Ivry sur Seine\, 94200\, France
END:VEVENT
BEGIN:VEVENT
DTSTART;TZID=Europe/Paris:20260208T090000
DTEND;TZID=Europe/Paris:20260208T170000
DTSTAMP:20260426T042139
CREATED:20251214T122307Z
LAST-MODIFIED:20251215T083714Z
UID:10000259-1770541200-1770570000@mhd-formation.com
SUMMARY:COACHING SCOLAIRE-26-01-09
DESCRIPTION:
URL:https://mhd-formation.com/event/coaching-scolaire-26-01-09-5/
LOCATION:Paris – Ivry sur Seine\, 33 bd de Brandebourg\, Ivry sur Seine\, 94200\, France
END:VEVENT
BEGIN:VEVENT
DTSTART;TZID=Europe/Paris:20260209T000000
DTEND;TZID=Europe/Paris:20260807T000000
DTSTAMP:20260426T042139
CREATED:20251214T122309Z
LAST-MODIFIED:20251215T083718Z
UID:10000262-1770595200-1786060800@mhd-formation.com
SUMMARY:PREPARATION ET CERTIFICATION COACH PRO RNCP-26-07-20
DESCRIPTION:
URL:https://mhd-formation.com/event/preparation-et-certification-coach-pro-rncp-26-07-20/
END:VEVENT
BEGIN:VEVENT
DTSTART;TZID=Europe/Paris:20260209T000000
DTEND;TZID=Europe/Paris:20260619T000000
DTSTAMP:20260426T042139
CREATED:20251214T122309Z
LAST-MODIFIED:20251215T083719Z
UID:10000263-1770595200-1781827200@mhd-formation.com
SUMMARY:QUALIFICATION COACH PROFESSIONNEL-26-02-09
DESCRIPTION:
URL:https://mhd-formation.com/event/qualification-coach-professionnel-26-02-09/
END:VEVENT
BEGIN:VEVENT
DTSTART;TZID=Europe/Paris:20260209T090000
DTEND;TZID=Europe/Paris:20260209T170000
DTSTAMP:20260426T042139
CREATED:20251214T122307Z
LAST-MODIFIED:20251215T083714Z
UID:10000261-1770627600-1770656400@mhd-formation.com
SUMMARY:MAITRE PRATICIEN HYPNOSE-26-02-09
DESCRIPTION:
URL:https://mhd-formation.com/event/maitre-praticien-hypnose-26-02-09/
LOCATION:Paris – Ivry sur Seine\, 33 bd de Brandebourg\, Ivry sur Seine\, 94200\, France
END:VEVENT
BEGIN:VEVENT
DTSTART;TZID=Europe/Paris:20260209T090000
DTEND;TZID=Europe/Paris:20260209T170000
DTSTAMP:20260426T042139
CREATED:20251214T122307Z
LAST-MODIFIED:20251215T083714Z
UID:10000260-1770627600-1770656400@mhd-formation.com
SUMMARY:LES FONDAMENTAUX DU COACHING-25-12-04
DESCRIPTION:
URL:https://mhd-formation.com/event/les-fondamentaux-du-coaching-25-12-04/
END:VEVENT
BEGIN:VEVENT
DTSTART;TZID=Europe/Paris:20260209T090000
DTEND;TZID=Europe/Paris:20260209T170000
DTSTAMP:20260426T042139
CREATED:20251214T122309Z
LAST-MODIFIED:20251215T083719Z
UID:10000264-1770627600-1770656400@mhd-formation.com
SUMMARY:QUALIFICATION COACH PROFESSIONNEL-26-02-09
DESCRIPTION:
URL:https://mhd-formation.com/event/qualification-coach-professionnel-26-02-09-2/
LOCATION:Paris – Ivry sur Seine\, 33 bd de Brandebourg\, Ivry sur Seine\, 94200\, France
END:VEVENT
BEGIN:VEVENT
DTSTART;TZID=Europe/Paris:20260210T000000
DTEND;TZID=Europe/Paris:20260918T000000
DTSTAMP:20260426T042139
CREATED:20251214T122309Z
LAST-MODIFIED:20251215T083719Z
UID:10000265-1770681600-1789689600@mhd-formation.com
SUMMARY:CREATION D'ACTIVITE-26-02-10
DESCRIPTION:
URL:https://mhd-formation.com/event/creation-dactivite-26-02-10/
END:VEVENT
BEGIN:VEVENT
DTSTART;TZID=Europe/Paris:20260210T090000
DTEND;TZID=Europe/Paris:20260210T170000
DTSTAMP:20260426T042139
CREATED:20251214T122309Z
LAST-MODIFIED:20251215T083719Z
UID:10000266-1770714000-1770742800@mhd-formation.com
SUMMARY:LES FONDAMENTAUX DU COACHING-25-12-04
DESCRIPTION:
URL:https://mhd-formation.com/event/les-fondamentaux-du-coaching-25-12-04-2/
END:VEVENT
BEGIN:VEVENT
DTSTART;TZID=Europe/Paris:20260210T090000
DTEND;TZID=Europe/Paris:20260210T170000
DTSTAMP:20260426T042139
CREATED:20251214T122312Z
LAST-MODIFIED:20251215T083748Z
UID:10000267-1770714000-1770742800@mhd-formation.com
SUMMARY:MAITRE PRATICIEN HYPNOSE-26-02-09
DESCRIPTION:
URL:https://mhd-formation.com/event/maitre-praticien-hypnose-26-02-09-2/
LOCATION:Paris – Ivry sur Seine\, 33 bd de Brandebourg\, Ivry sur Seine\, 94200\, France
END:VEVENT
BEGIN:VEVENT
DTSTART;TZID=Europe/Paris:20260210T090000
DTEND;TZID=Europe/Paris:20260210T170000
DTSTAMP:20260426T042139
CREATED:20251214T122312Z
LAST-MODIFIED:20251215T083748Z
UID:10000268-1770714000-1770742800@mhd-formation.com
SUMMARY:QUALIFICATION COACH PROFESSIONNEL-26-02-09
DESCRIPTION:
URL:https://mhd-formation.com/event/qualification-coach-professionnel-26-02-09-3/
LOCATION:Paris – Ivry sur Seine\, 33 bd de Brandebourg\, Ivry sur Seine\, 94200\, France
END:VEVENT
BEGIN:VEVENT
DTSTART;TZID=Europe/Paris:20260211T090000
DTEND;TZID=Europe/Paris:20260211T170000
DTSTAMP:20260426T042139
CREATED:20251214T122312Z
LAST-MODIFIED:20251215T083748Z
UID:10000269-1770800400-1770829200@mhd-formation.com
SUMMARY:LES FONDAMENTAUX DU COACHING-25-12-04
DESCRIPTION:
URL:https://mhd-formation.com/event/les-fondamentaux-du-coaching-25-12-04-3/
END:VEVENT
BEGIN:VEVENT
DTSTART;TZID=Europe/Paris:20260211T090000
DTEND;TZID=Europe/Paris:20260211T170000
DTSTAMP:20260426T042139
CREATED:20251214T122312Z
LAST-MODIFIED:20251215T083748Z
UID:10000270-1770800400-1770829200@mhd-formation.com
SUMMARY:MAITRE PRATICIEN HYPNOSE-26-02-09
DESCRIPTION:
URL:https://mhd-formation.com/event/maitre-praticien-hypnose-26-02-09-3/
LOCATION:Paris – Ivry sur Seine\, 33 bd de Brandebourg\, Ivry sur Seine\, 94200\, France
END:VEVENT
BEGIN:VEVENT
DTSTART;TZID=Europe/Paris:20260211T090000
DTEND;TZID=Europe/Paris:20260211T170000
DTSTAMP:20260426T042139
CREATED:20251214T122312Z
LAST-MODIFIED:20251215T083748Z
UID:10000271-1770800400-1770829200@mhd-formation.com
SUMMARY:MAITRE PRATICIEN PNL-25-05-19
DESCRIPTION:
URL:https://mhd-formation.com/event/maitre-praticien-pnl-25-05-19-5/
LOCATION:Paris – Ivry sur Seine\, 33 bd de Brandebourg\, Ivry sur Seine\, 94200\, France
END:VEVENT
BEGIN:VEVENT
DTSTART;TZID=Europe/Paris:20260212T090000
DTEND;TZID=Europe/Paris:20260212T170000
DTSTAMP:20260426T042139
CREATED:20251214T122320Z
LAST-MODIFIED:20251215T083755Z
UID:10000272-1770886800-1770915600@mhd-formation.com
SUMMARY:COACHING D'EQUIPE-26-01-19
DESCRIPTION:
URL:https://mhd-formation.com/event/coaching-dequipe-26-01-19-3/
LOCATION:Paris – Ivry sur Seine\, 33 bd de Brandebourg\, Ivry sur Seine\, 94200\, France
END:VEVENT
BEGIN:VEVENT
DTSTART;TZID=Europe/Paris:20260212T090000
DTEND;TZID=Europe/Paris:20260212T170000
DTSTAMP:20260426T042139
CREATED:20251214T122320Z
LAST-MODIFIED:20251215T083755Z
UID:10000273-1770886800-1770915600@mhd-formation.com
SUMMARY:INITIATION AUX PSYCHOPATHOLOGIES-26-02-12
DESCRIPTION:
URL:https://mhd-formation.com/event/initiation-aux-psychopathologies-26-02-12/
LOCATION:Paris – Ivry sur Seine\, 33 bd de Brandebourg\, Ivry sur Seine\, 94200\, France
END:VEVENT
BEGIN:VEVENT
DTSTART;TZID=Europe/Paris:20260212T090000
DTEND;TZID=Europe/Paris:20260212T170000
DTSTAMP:20260426T042139
CREATED:20251214T122320Z
LAST-MODIFIED:20251215T083755Z
UID:10000274-1770886800-1770915600@mhd-formation.com
SUMMARY:MAITRE PRATICIEN PNL-25-05-19
DESCRIPTION:
URL:https://mhd-formation.com/event/maitre-praticien-pnl-25-05-19-6/
LOCATION:Paris – Ivry sur Seine\, 33 bd de Brandebourg\, Ivry sur Seine\, 94200\, France
END:VEVENT
BEGIN:VEVENT
DTSTART;TZID=Europe/Paris:20260212T090000
DTEND;TZID=Europe/Paris:20260212T170000
DTSTAMP:20260426T042139
CREATED:20251214T122321Z
LAST-MODIFIED:20251215T083755Z
UID:10000275-1770886800-1770915600@mhd-formation.com
SUMMARY:PRATICIEN PNL-26-01-26
DESCRIPTION:
URL:https://mhd-formation.com/event/praticien-pnl-26-01-26-4/
LOCATION:Paris – Ivry sur Seine\, 33 bd de Brandebourg\, Ivry sur Seine\, 94200\, France
END:VEVENT
BEGIN:VEVENT
DTSTART;TZID=Europe/Paris:20260212T090000
DTEND;TZID=Europe/Paris:20260212T170000
DTSTAMP:20260426T042139
CREATED:20251214T122321Z
LAST-MODIFIED:20251215T083756Z
UID:10000276-1770886800-1770915600@mhd-formation.com
SUMMARY:QUALIFICATION COACH PROFESSIONNEL-25-11-13
DESCRIPTION:
URL:https://mhd-formation.com/event/qualification-coach-professionnel-25-11-13/
END:VEVENT
BEGIN:VEVENT
DTSTART;TZID=Europe/Paris:20260213T090000
DTEND;TZID=Europe/Paris:20260213T170000
DTSTAMP:20260426T042139
CREATED:20251214T122323Z
LAST-MODIFIED:20251215T083801Z
UID:10000277-1770973200-1771002000@mhd-formation.com
SUMMARY:CERTIFICATION RS 5242-26-02-13
DESCRIPTION:
URL:https://mhd-formation.com/event/certification-rs-5242-26-02-13/
END:VEVENT
BEGIN:VEVENT
DTSTART;TZID=Europe/Paris:20260213T090000
DTEND;TZID=Europe/Paris:20260213T170000
DTSTAMP:20260426T042139
CREATED:20251214T122323Z
LAST-MODIFIED:20251215T083801Z
UID:10000278-1770973200-1771002000@mhd-formation.com
SUMMARY:COACHING D'EQUIPE-26-01-19
DESCRIPTION:
URL:https://mhd-formation.com/event/coaching-dequipe-26-01-19-4/
LOCATION:Paris – Ivry sur Seine\, 33 bd de Brandebourg\, Ivry sur Seine\, 94200\, France
END:VEVENT
BEGIN:VEVENT
DTSTART;TZID=Europe/Paris:20260213T090000
DTEND;TZID=Europe/Paris:20260213T170000
DTSTAMP:20260426T042139
CREATED:20251214T122323Z
LAST-MODIFIED:20251215T083801Z
UID:10000279-1770973200-1771002000@mhd-formation.com
SUMMARY:INITIATION AUX PSYCHOPATHOLOGIES-26-02-12
DESCRIPTION:
URL:https://mhd-formation.com/event/initiation-aux-psychopathologies-26-02-12-2/
LOCATION:Paris – Ivry sur Seine\, 33 bd de Brandebourg\, Ivry sur Seine\, 94200\, France
END:VEVENT
BEGIN:VEVENT
DTSTART;TZID=Europe/Paris:20260213T090000
DTEND;TZID=Europe/Paris:20260213T170000
DTSTAMP:20260426T042139
CREATED:20251214T122323Z
LAST-MODIFIED:20251215T083801Z
UID:10000280-1770973200-1771002000@mhd-formation.com
SUMMARY:MAITRE PRATICIEN PNL-25-05-19
DESCRIPTION:
URL:https://mhd-formation.com/event/maitre-praticien-pnl-25-05-19-7/
LOCATION:Paris – Ivry sur Seine\, 33 bd de Brandebourg\, Ivry sur Seine\, 94200\, France
END:VEVENT
BEGIN:VEVENT
DTSTART;TZID=Europe/Paris:20260213T090000
DTEND;TZID=Europe/Paris:20260213T170000
DTSTAMP:20260426T042139
CREATED:20251214T122323Z
LAST-MODIFIED:20251215T083801Z
UID:10000281-1770973200-1771002000@mhd-formation.com
SUMMARY:PRATICIEN PNL-26-01-26
DESCRIPTION:
URL:https://mhd-formation.com/event/praticien-pnl-26-01-26-5/
LOCATION:Paris – Ivry sur Seine\, 33 bd de Brandebourg\, Ivry sur Seine\, 94200\, France
END:VEVENT
BEGIN:VEVENT
DTSTART;TZID=Europe/Paris:20260214T000000
DTEND;TZID=Europe/Paris:20260507T000000
DTSTAMP:20260426T042139
CREATED:20251214T122326Z
LAST-MODIFIED:20251215T083804Z
UID:10000283-1771027200-1778112000@mhd-formation.com
SUMMARY:LES FONDAMENTAUX DU COACHING-26-02-16
DESCRIPTION:
URL:https://mhd-formation.com/event/les-fondamentaux-du-coaching-26-02-16/
CATEGORIES:Coaching
END:VEVENT
BEGIN:VEVENT
DTSTART;TZID=Europe/Paris:20260214T090000
DTEND;TZID=Europe/Paris:20260214T170000
DTSTAMP:20260426T042139
CREATED:20251214T122325Z
LAST-MODIFIED:20251215T083804Z
UID:10000282-1771059600-1771088400@mhd-formation.com
SUMMARY:INITIATION AUX PSYCHOPATHOLOGIES-26-02-12
DESCRIPTION:
URL:https://mhd-formation.com/event/initiation-aux-psychopathologies-26-02-12-3/
LOCATION:Paris – Ivry sur Seine\, 33 bd de Brandebourg\, Ivry sur Seine\, 94200\, France
CATEGORIES:Thérapies Brèves
END:VEVENT
BEGIN:VEVENT
DTSTART;TZID=Europe/Paris:20260214T090000
DTEND;TZID=Europe/Paris:20260214T170000
DTSTAMP:20260426T042139
CREATED:20251214T122326Z
LAST-MODIFIED:20251215T083804Z
UID:10000284-1771059600-1771088400@mhd-formation.com
SUMMARY:LES FONDAMENTAUX DU COACHING-26-02-16
DESCRIPTION:
URL:https://mhd-formation.com/event/les-fondamentaux-du-coaching-26-02-16-2/
LOCATION:Paris – Ivry sur Seine\, 33 bd de Brandebourg\, Ivry sur Seine\, 94200\, France
CATEGORIES:Coaching
END:VEVENT
BEGIN:VEVENT
DTSTART;TZID=Europe/Paris:20260215T090000
DTEND;TZID=Europe/Paris:20260215T170000
DTSTAMP:20260426T042139
CREATED:20251214T122326Z
LAST-MODIFIED:20251215T083805Z
UID:10000285-1771146000-1771174800@mhd-formation.com
SUMMARY:INITIATION AUX PSYCHOPATHOLOGIES-26-02-12
DESCRIPTION:
URL:https://mhd-formation.com/event/initiation-aux-psychopathologies-26-02-12-4/
LOCATION:Paris – Ivry sur Seine\, 33 bd de Brandebourg\, Ivry sur Seine\, 94200\, France
CATEGORIES:Thérapies Brèves
END:VEVENT
BEGIN:VEVENT
DTSTART;TZID=Europe/Paris:20260215T090000
DTEND;TZID=Europe/Paris:20260215T170000
DTSTAMP:20260426T042139
CREATED:20251214T122326Z
LAST-MODIFIED:20251215T083805Z
UID:10000286-1771146000-1771174800@mhd-formation.com
SUMMARY:LES FONDAMENTAUX DU COACHING-26-02-16
DESCRIPTION:
URL:https://mhd-formation.com/event/les-fondamentaux-du-coaching-26-02-16-3/
LOCATION:Paris – Ivry sur Seine\, 33 bd de Brandebourg\, Ivry sur Seine\, 94200\, France
CATEGORIES:Coaching
END:VEVENT
END:VCALENDAR