BEGIN:VCALENDAR
VERSION:2.0
PRODID:-//MHD Formation - ECPv6.15.20//NONSGML v1.0//EN
CALSCALE:GREGORIAN
METHOD:PUBLISH
X-ORIGINAL-URL:https://mhd-formation.com
X-WR-CALDESC:Évènements pour MHD Formation
REFRESH-INTERVAL;VALUE=DURATION:PT1H
X-Robots-Tag:noindex
X-PUBLISHED-TTL:PT1H
BEGIN:VTIMEZONE
TZID:Europe/Paris
BEGIN:DAYLIGHT
TZOFFSETFROM:+0100
TZOFFSETTO:+0200
TZNAME:CEST
DTSTART:20250330T010000
END:DAYLIGHT
BEGIN:STANDARD
TZOFFSETFROM:+0200
TZOFFSETTO:+0100
TZNAME:CET
DTSTART:20251026T010000
END:STANDARD
BEGIN:DAYLIGHT
TZOFFSETFROM:+0100
TZOFFSETTO:+0200
TZNAME:CEST
DTSTART:20260329T010000
END:DAYLIGHT
BEGIN:STANDARD
TZOFFSETFROM:+0200
TZOFFSETTO:+0100
TZNAME:CET
DTSTART:20261025T010000
END:STANDARD
BEGIN:DAYLIGHT
TZOFFSETFROM:+0100
TZOFFSETTO:+0200
TZNAME:CEST
DTSTART:20270328T010000
END:DAYLIGHT
BEGIN:STANDARD
TZOFFSETFROM:+0200
TZOFFSETTO:+0100
TZNAME:CET
DTSTART:20271031T010000
END:STANDARD
END:VTIMEZONE
BEGIN:VEVENT
DTSTART;TZID=Europe/Paris:20260115T090000
DTEND;TZID=Europe/Paris:20260115T170000
DTSTAMP:20260426T001145
CREATED:20251214T122243Z
LAST-MODIFIED:20251215T083437Z
UID:10000220-1768467600-1768496400@mhd-formation.com
SUMMARY:LES FONDAMENTAUX DU COACHING-25-12-11
DESCRIPTION:
URL:https://mhd-formation.com/event/les-fondamentaux-du-coaching-25-12-11-2/
CATEGORIES:Coaching
END:VEVENT
BEGIN:VEVENT
DTSTART;TZID=Europe/Paris:20260116T090000
DTEND;TZID=Europe/Paris:20260116T170000
DTSTAMP:20260426T001145
CREATED:20251214T122245Z
LAST-MODIFIED:20251215T083517Z
UID:10000222-1768554000-1768582800@mhd-formation.com
SUMMARY:CERTIFICATION RS 5242-26-01-16
DESCRIPTION:
URL:https://mhd-formation.com/event/certification-rs-5242-26-01-16/
END:VEVENT
BEGIN:VEVENT
DTSTART;TZID=Europe/Paris:20260116T090000
DTEND;TZID=Europe/Paris:20260116T170000
DTSTAMP:20260426T001145
CREATED:20251214T122245Z
LAST-MODIFIED:20251215T083517Z
UID:10000223-1768554000-1768582800@mhd-formation.com
SUMMARY:LES FONDAMENTAUX DU COACHING-25-12-11
DESCRIPTION:
URL:https://mhd-formation.com/event/les-fondamentaux-du-coaching-25-12-11-3/
END:VEVENT
BEGIN:VEVENT
DTSTART;TZID=Europe/Paris:20260119T000000
DTEND;TZID=Europe/Paris:20260409T000000
DTSTAMP:20260426T001145
CREATED:20251214T122245Z
LAST-MODIFIED:20251215T083517Z
UID:10000224-1768780800-1775692800@mhd-formation.com
SUMMARY:LES FONDAMENTAUX DU COACHING-26-01-19
DESCRIPTION:
URL:https://mhd-formation.com/event/les-fondamentaux-du-coaching-26-01-19/
END:VEVENT
BEGIN:VEVENT
DTSTART;TZID=Europe/Paris:20260119T090000
DTEND;TZID=Europe/Paris:20260119T170000
DTSTAMP:20260426T001145
CREATED:20251214T122245Z
LAST-MODIFIED:20251215T083517Z
UID:10000225-1768813200-1768842000@mhd-formation.com
SUMMARY:LES FONDAMENTAUX DU COACHING-26-01-19
DESCRIPTION:
URL:https://mhd-formation.com/event/les-fondamentaux-du-coaching-26-01-19-2/
LOCATION:Paris – Ivry sur Seine\, 33 bd de Brandebourg\, Ivry sur Seine\, 94200\, France
END:VEVENT
BEGIN:VEVENT
DTSTART;TZID=Europe/Paris:20260120T090000
DTEND;TZID=Europe/Paris:20260120T170000
DTSTAMP:20260426T001145
CREATED:20251214T122245Z
LAST-MODIFIED:20251215T083517Z
UID:10000226-1768899600-1768928400@mhd-formation.com
SUMMARY:LES FONDAMENTAUX DU COACHING-26-01-19
DESCRIPTION:
URL:https://mhd-formation.com/event/les-fondamentaux-du-coaching-26-01-19-3/
LOCATION:Paris – Ivry sur Seine\, 33 bd de Brandebourg\, Ivry sur Seine\, 94200\, France
END:VEVENT
BEGIN:VEVENT
DTSTART;TZID=Europe/Paris:20260121T090000
DTEND;TZID=Europe/Paris:20260121T170000
DTSTAMP:20260426T001145
CREATED:20251214T122250Z
LAST-MODIFIED:20251215T083536Z
UID:10000227-1768986000-1769014800@mhd-formation.com
SUMMARY:INTRO APPROCHE SYSTEMIQUE-26-01-21
DESCRIPTION:
URL:https://mhd-formation.com/event/intro-approche-systemique-26-01-21/
LOCATION:Paris – Ivry sur Seine\, 33 bd de Brandebourg\, Ivry sur Seine\, 94200\, France
END:VEVENT
BEGIN:VEVENT
DTSTART;TZID=Europe/Paris:20260121T090000
DTEND;TZID=Europe/Paris:20260121T170000
DTSTAMP:20260426T001145
CREATED:20251214T122251Z
LAST-MODIFIED:20251215T083536Z
UID:10000228-1768986000-1769014800@mhd-formation.com
SUMMARY:TITRE PROFESSIONNEL FORMATEUR POUR ADULTES-26-01-21
DESCRIPTION:
URL:https://mhd-formation.com/event/titre-professionnel-formateur-pour-adultes-26-01-21-2/
LOCATION:Paris – Ivry sur Seine\, 33 bd de Brandebourg\, Ivry sur Seine\, 94200\, France
END:VEVENT
BEGIN:VEVENT
DTSTART;TZID=Europe/Paris:20260122T090000
DTEND;TZID=Europe/Paris:20260122T170000
DTSTAMP:20260426T001145
CREATED:20251214T122251Z
LAST-MODIFIED:20251215T083536Z
UID:10000229-1769072400-1769101200@mhd-formation.com
SUMMARY:INTRO APPROCHE SYSTEMIQUE-26-01-21
DESCRIPTION:
URL:https://mhd-formation.com/event/intro-approche-systemique-26-01-21-2/
LOCATION:Paris – Ivry sur Seine\, 33 bd de Brandebourg\, Ivry sur Seine\, 94200\, France
END:VEVENT
BEGIN:VEVENT
DTSTART;TZID=Europe/Paris:20260122T090000
DTEND;TZID=Europe/Paris:20260122T170000
DTSTAMP:20260426T001145
CREATED:20251214T122251Z
LAST-MODIFIED:20251215T083536Z
UID:10000230-1769072400-1769101200@mhd-formation.com
SUMMARY:TITRE PROFESSIONNEL FORMATEUR POUR ADULTES-26-01-21
DESCRIPTION:
URL:https://mhd-formation.com/event/titre-professionnel-formateur-pour-adultes-26-01-21-3/
LOCATION:Paris – Ivry sur Seine\, 33 bd de Brandebourg\, Ivry sur Seine\, 94200\, France
END:VEVENT
BEGIN:VEVENT
DTSTART;TZID=Europe/Paris:20260123T090000
DTEND;TZID=Europe/Paris:20260123T170000
DTSTAMP:20260426T001145
CREATED:20251214T122251Z
LAST-MODIFIED:20251215T083536Z
UID:10000231-1769158800-1769187600@mhd-formation.com
SUMMARY:CERTIFICATION COACH EXPERT-26-01-23
DESCRIPTION:
URL:https://mhd-formation.com/event/certification-coach-expert-26-01-23/
END:VEVENT
BEGIN:VEVENT
DTSTART;TZID=Europe/Paris:20260123T090000
DTEND;TZID=Europe/Paris:20260123T170000
DTSTAMP:20260426T001145
CREATED:20251214T122255Z
LAST-MODIFIED:20251215T083607Z
UID:10000232-1769158800-1769187600@mhd-formation.com
SUMMARY:INTRO APPROCHE SYSTEMIQUE-26-01-21
DESCRIPTION:
URL:https://mhd-formation.com/event/intro-approche-systemique-26-01-21-3/
LOCATION:Paris – Ivry sur Seine\, 33 bd de Brandebourg\, Ivry sur Seine\, 94200\, France
CATEGORIES:Thérapies Brèves
END:VEVENT
BEGIN:VEVENT
DTSTART;TZID=Europe/Paris:20260123T090000
DTEND;TZID=Europe/Paris:20260123T170000
DTSTAMP:20260426T001145
CREATED:20251214T122255Z
LAST-MODIFIED:20251215T083607Z
UID:10000233-1769158800-1769187600@mhd-formation.com
SUMMARY:TITRE PROFESSIONNEL FORMATEUR POUR ADULTES-26-01-21
DESCRIPTION:
URL:https://mhd-formation.com/event/titre-professionnel-formateur-pour-adultes-26-01-21-4/
LOCATION:Paris – Ivry sur Seine\, 33 bd de Brandebourg\, Ivry sur Seine\, 94200\, France
CATEGORIES:Formateur
END:VEVENT
BEGIN:VEVENT
DTSTART;TZID=Europe/Paris:20260126T090000
DTEND;TZID=Europe/Paris:20260126T130000
DTSTAMP:20260426T001145
CREATED:20251214T122255Z
LAST-MODIFIED:20251215T083607Z
UID:10000236-1769418000-1769432400@mhd-formation.com
SUMMARY:FAVORISER ENGAGEMENT-25-12-09
DESCRIPTION:
URL:https://mhd-formation.com/event/favoriser-engagement-25-12-09-4/
CATEGORIES:Management & Leadership
END:VEVENT
BEGIN:VEVENT
DTSTART;TZID=Europe/Paris:20260126T090000
DTEND;TZID=Europe/Paris:20260126T170000
DTSTAMP:20260426T001145
CREATED:20251214T122255Z
LAST-MODIFIED:20251215T083607Z
UID:10000235-1769418000-1769446800@mhd-formation.com
SUMMARY:COACHING D'ORIENTATION ET BILAN DE COMPETENCE-26-01-26
DESCRIPTION:
URL:https://mhd-formation.com/event/coaching-dorientation-et-bilan-de-competence-26-01-26/
LOCATION:Paris – Ivry sur Seine\, 33 bd de Brandebourg\, Ivry sur Seine\, 94200\, France
CATEGORIES:Spécialisations coaching
END:VEVENT
BEGIN:VEVENT
DTSTART;TZID=Europe/Paris:20260126T090000
DTEND;TZID=Europe/Paris:20260126T170000
DTSTAMP:20260426T001145
CREATED:20251214T122257Z
LAST-MODIFIED:20251215T083627Z
UID:10000237-1769418000-1769446800@mhd-formation.com
SUMMARY:PRATICIEN PNL-26-01-26
DESCRIPTION:
URL:https://mhd-formation.com/event/praticien-pnl-26-01-26/
LOCATION:Paris – Ivry sur Seine\, 33 bd de Brandebourg\, Ivry sur Seine\, 94200\, France
END:VEVENT
BEGIN:VEVENT
DTSTART;TZID=Europe/Paris:20260126T140000
DTEND;TZID=Europe/Paris:20260126T180000
DTSTAMP:20260426T001145
CREATED:20251214T122255Z
LAST-MODIFIED:20251215T083607Z
UID:10000234-1769436000-1769450400@mhd-formation.com
SUMMARY:CHARGE MENTALE DIRIGEANT-25-12-09
DESCRIPTION:
URL:https://mhd-formation.com/event/charge-mentale-dirigeant-25-12-09-4/
CATEGORIES:Management & Leadership
END:VEVENT
BEGIN:VEVENT
DTSTART;TZID=Europe/Paris:20260127T090000
DTEND;TZID=Europe/Paris:20260127T170000
DTSTAMP:20260426T001145
CREATED:20251214T122257Z
LAST-MODIFIED:20251215T083628Z
UID:10000238-1769504400-1769533200@mhd-formation.com
SUMMARY:COACHING D'ORIENTATION ET BILAN DE COMPETENCE-26-01-26
DESCRIPTION:
URL:https://mhd-formation.com/event/coaching-dorientation-et-bilan-de-competence-26-01-26-2/
LOCATION:Paris – Ivry sur Seine\, 33 bd de Brandebourg\, Ivry sur Seine\, 94200\, France
END:VEVENT
BEGIN:VEVENT
DTSTART;TZID=Europe/Paris:20260127T090000
DTEND;TZID=Europe/Paris:20260127T170000
DTSTAMP:20260426T001145
CREATED:20251214T122257Z
LAST-MODIFIED:20251215T083628Z
UID:10000240-1769504400-1769533200@mhd-formation.com
SUMMARY:PRATICIEN PNL-26-01-26
DESCRIPTION:
URL:https://mhd-formation.com/event/praticien-pnl-26-01-26-2/
LOCATION:Paris – Ivry sur Seine\, 33 bd de Brandebourg\, Ivry sur Seine\, 94200\, France
END:VEVENT
BEGIN:VEVENT
DTSTART;TZID=Europe/Paris:20260127T140000
DTEND;TZID=Europe/Paris:20260127T180000
DTSTAMP:20260426T001145
CREATED:20251214T122257Z
LAST-MODIFIED:20251215T083628Z
UID:10000239-1769522400-1769536800@mhd-formation.com
SUMMARY:CULTIVER LA RESILIENCE-26-01-06
DESCRIPTION:
URL:https://mhd-formation.com/event/cultiver-la-resilience-26-01-06-7/
END:VEVENT
BEGIN:VEVENT
DTSTART;TZID=Europe/Paris:20260128T090000
DTEND;TZID=Europe/Paris:20260128T170000
DTSTAMP:20260426T001145
CREATED:20251214T122257Z
LAST-MODIFIED:20251215T083628Z
UID:10000241-1769590800-1769619600@mhd-formation.com
SUMMARY:COACHING D'ORIENTATION ET BILAN DE COMPETENCE-26-01-26
DESCRIPTION:
URL:https://mhd-formation.com/event/coaching-dorientation-et-bilan-de-competence-26-01-26-3/
LOCATION:Paris – Ivry sur Seine\, 33 bd de Brandebourg\, Ivry sur Seine\, 94200\, France
END:VEVENT
BEGIN:VEVENT
DTSTART;TZID=Europe/Paris:20260128T090000
DTEND;TZID=Europe/Paris:20260128T170000
DTSTAMP:20260426T001145
CREATED:20251214T122258Z
LAST-MODIFIED:20251215T083631Z
UID:10000242-1769590800-1769619600@mhd-formation.com
SUMMARY:PRATICIEN PNL-26-01-26
DESCRIPTION:
URL:https://mhd-formation.com/event/praticien-pnl-26-01-26-3/
LOCATION:Paris – Ivry sur Seine\, 33 bd de Brandebourg\, Ivry sur Seine\, 94200\, France
CATEGORIES:Thérapies Brèves
END:VEVENT
BEGIN:VEVENT
DTSTART;TZID=Europe/Paris:20260202T000000
DTEND;TZID=Europe/Paris:20260423T000000
DTSTAMP:20260426T001145
CREATED:20251214T122259Z
LAST-MODIFIED:20251215T083631Z
UID:10000244-1769990400-1776902400@mhd-formation.com
SUMMARY:LES FONDAMENTAUX DU COACHING-26-02-02
DESCRIPTION:
URL:https://mhd-formation.com/event/les-fondamentaux-du-coaching-26-02-02/
CATEGORIES:Coaching
END:VEVENT
BEGIN:VEVENT
DTSTART;TZID=Europe/Paris:20260202T090000
DTEND;TZID=Europe/Paris:20260202T130000
DTSTAMP:20260426T001145
CREATED:20251214T122259Z
LAST-MODIFIED:20251215T083631Z
UID:10000243-1770022800-1770037200@mhd-formation.com
SUMMARY:EQUIPE DANS LA DIVERSITE-26-01-14
DESCRIPTION:
URL:https://mhd-formation.com/event/equipe-dans-la-diversite-26-01-14-2/
CATEGORIES:Management & Leadership
END:VEVENT
BEGIN:VEVENT
DTSTART;TZID=Europe/Paris:20260202T090000
DTEND;TZID=Europe/Paris:20260202T170000
DTSTAMP:20260426T001145
CREATED:20251214T122259Z
LAST-MODIFIED:20251215T083632Z
UID:10000245-1770022800-1770051600@mhd-formation.com
SUMMARY:LES FONDAMENTAUX DU COACHING-26-02-02
DESCRIPTION:
URL:https://mhd-formation.com/event/les-fondamentaux-du-coaching-26-02-02-2/
CATEGORIES:Coaching
END:VEVENT
BEGIN:VEVENT
DTSTART;TZID=Europe/Paris:20260202T090000
DTEND;TZID=Europe/Paris:20260202T170000
DTSTAMP:20260426T001145
CREATED:20251214T122259Z
LAST-MODIFIED:20251215T083632Z
UID:10000246-1770022800-1770051600@mhd-formation.com
SUMMARY:SOCLE COMMUN HYPNOSE PNL-26-02-02
DESCRIPTION:
URL:https://mhd-formation.com/event/socle-commun-hypnose-pnl-26-02-02/
LOCATION:Paris – Ivry sur Seine\, 33 bd de Brandebourg\, Ivry sur Seine\, 94200\, France
CATEGORIES:Thérapies Brèves
END:VEVENT
BEGIN:VEVENT
DTSTART;TZID=Europe/Paris:20260203T090000
DTEND;TZID=Europe/Paris:20260203T170000
DTSTAMP:20260426T001145
CREATED:20251214T122301Z
LAST-MODIFIED:20251215T083652Z
UID:10000247-1770109200-1770138000@mhd-formation.com
SUMMARY:LES FONDAMENTAUX DU COACHING-26-02-02
DESCRIPTION:
URL:https://mhd-formation.com/event/les-fondamentaux-du-coaching-26-02-02-3/
END:VEVENT
BEGIN:VEVENT
DTSTART;TZID=Europe/Paris:20260203T090000
DTEND;TZID=Europe/Paris:20260203T170000
DTSTAMP:20260426T001145
CREATED:20251214T122301Z
LAST-MODIFIED:20251215T083652Z
UID:10000248-1770109200-1770138000@mhd-formation.com
SUMMARY:SOCLE COMMUN HYPNOSE PNL-26-02-02
DESCRIPTION:
URL:https://mhd-formation.com/event/socle-commun-hypnose-pnl-26-02-02-2/
LOCATION:Paris – Ivry sur Seine\, 33 bd de Brandebourg\, Ivry sur Seine\, 94200\, France
END:VEVENT
BEGIN:VEVENT
DTSTART;TZID=Europe/Paris:20260204T000000
DTEND;TZID=Europe/Paris:20260803T000000
DTSTAMP:20260426T001145
CREATED:20251214T122301Z
LAST-MODIFIED:20251215T083653Z
UID:10000249-1770163200-1785715200@mhd-formation.com
SUMMARY:IDENTIFIER PROFIL MANAGEMENT-26-02-04
DESCRIPTION:
URL:https://mhd-formation.com/event/identifier-profil-management-26-02-04/
END:VEVENT
BEGIN:VEVENT
DTSTART;TZID=Europe/Paris:20260204T090000
DTEND;TZID=Europe/Paris:20260204T170000
DTSTAMP:20260426T001145
CREATED:20251214T122301Z
LAST-MODIFIED:20251215T083653Z
UID:10000250-1770195600-1770224400@mhd-formation.com
SUMMARY:SOCLE COMMUN HYPNOSE PNL-26-02-02
DESCRIPTION:
URL:https://mhd-formation.com/event/socle-commun-hypnose-pnl-26-02-02-3/
LOCATION:Paris – Ivry sur Seine\, 33 bd de Brandebourg\, Ivry sur Seine\, 94200\, France
END:VEVENT
END:VCALENDAR