BEGIN:VCALENDAR
VERSION:2.0
PRODID:-//MHD Formation - ECPv6.15.20//NONSGML v1.0//EN
CALSCALE:GREGORIAN
METHOD:PUBLISH
X-ORIGINAL-URL:https://mhd-formation.com
X-WR-CALDESC:Évènements pour MHD Formation
REFRESH-INTERVAL;VALUE=DURATION:PT1H
X-Robots-Tag:noindex
X-PUBLISHED-TTL:PT1H
BEGIN:VTIMEZONE
TZID:Europe/Paris
BEGIN:DAYLIGHT
TZOFFSETFROM:+0100
TZOFFSETTO:+0200
TZNAME:CEST
DTSTART:20250330T010000
END:DAYLIGHT
BEGIN:STANDARD
TZOFFSETFROM:+0200
TZOFFSETTO:+0100
TZNAME:CET
DTSTART:20251026T010000
END:STANDARD
BEGIN:DAYLIGHT
TZOFFSETFROM:+0100
TZOFFSETTO:+0200
TZNAME:CEST
DTSTART:20260329T010000
END:DAYLIGHT
BEGIN:STANDARD
TZOFFSETFROM:+0200
TZOFFSETTO:+0100
TZNAME:CET
DTSTART:20261025T010000
END:STANDARD
BEGIN:DAYLIGHT
TZOFFSETFROM:+0100
TZOFFSETTO:+0200
TZNAME:CEST
DTSTART:20270328T010000
END:DAYLIGHT
BEGIN:STANDARD
TZOFFSETFROM:+0200
TZOFFSETTO:+0100
TZNAME:CET
DTSTART:20271031T010000
END:STANDARD
END:VTIMEZONE
BEGIN:VEVENT
DTSTART;TZID=Europe/Paris:20260219T000000
DTEND;TZID=Europe/Paris:20260510T000000
DTSTAMP:20260426T013447
CREATED:20251214T122327Z
LAST-MODIFIED:20251215T083809Z
UID:10000289-1771459200-1778371200@mhd-formation.com
SUMMARY:LES FONDAMENTAUX DU COACHING-26-02-19
DESCRIPTION:
URL:https://mhd-formation.com/event/les-fondamentaux-du-coaching-26-02-19/
END:VEVENT
BEGIN:VEVENT
DTSTART;TZID=Europe/Paris:20260221T000000
DTEND;TZID=Europe/Paris:20260409T000000
DTSTAMP:20260426T013447
CREATED:20251214T122329Z
LAST-MODIFIED:20251215T083810Z
UID:10000294-1771632000-1775692800@mhd-formation.com
SUMMARY:COACHING D'EQUIPE-26-02-28
DESCRIPTION:
URL:https://mhd-formation.com/event/coaching-dequipe-26-02-28/
END:VEVENT
BEGIN:VEVENT
DTSTART;TZID=Europe/Paris:20260221T000000
DTEND;TZID=Europe/Paris:20260701T000000
DTSTAMP:20260426T013447
CREATED:20251214T122329Z
LAST-MODIFIED:20251215T083810Z
UID:10000296-1771632000-1782864000@mhd-formation.com
SUMMARY:QUALIFICATION COACH PROFESSIONNEL-26-02-21
DESCRIPTION:
URL:https://mhd-formation.com/event/qualification-coach-professionnel-26-02-21/
END:VEVENT
BEGIN:VEVENT
DTSTART;TZID=Europe/Paris:20260302T000000
DTEND;TZID=Europe/Paris:20260521T000000
DTSTAMP:20260426T013447
CREATED:20251214T122347Z
LAST-MODIFIED:20251215T083849Z
UID:10000311-1772409600-1779321600@mhd-formation.com
SUMMARY:LES FONDAMENTAUX DU COACHING-26-03-02
DESCRIPTION:
URL:https://mhd-formation.com/event/les-fondamentaux-du-coaching-26-03-02/
END:VEVENT
BEGIN:VEVENT
DTSTART;TZID=Europe/Paris:20260304T000000
DTEND;TZID=Europe/Paris:20260831T000000
DTSTAMP:20260426T013447
CREATED:20251214T122352Z
LAST-MODIFIED:20251215T083915Z
UID:10000318-1772582400-1788134400@mhd-formation.com
SUMMARY:CHARGE MENTALE DIRIGEANT-26-03-04
DESCRIPTION:
URL:https://mhd-formation.com/event/charge-mentale-dirigeant-26-03-04/
END:VEVENT
BEGIN:VEVENT
DTSTART;TZID=Europe/Paris:20260309T000000
DTEND;TZID=Europe/Paris:20260508T000000
DTSTAMP:20260426T013447
CREATED:20251214T122357Z
LAST-MODIFIED:20251215T083921Z
UID:10000328-1773014400-1778198400@mhd-formation.com
SUMMARY:COACHER DES PROFILS NEURO-ATYPIQUES-26-03-09
DESCRIPTION:
URL:https://mhd-formation.com/event/coacher-des-profils-neuro-atypiques-26-03-09/
END:VEVENT
BEGIN:VEVENT
DTSTART;TZID=Europe/Paris:20260309T000000
DTEND;TZID=Europe/Paris:20260528T000000
DTSTAMP:20260426T013447
CREATED:20251214T122357Z
LAST-MODIFIED:20251215T083921Z
UID:10000330-1773014400-1779926400@mhd-formation.com
SUMMARY:LES FONDAMENTAUX DU COACHING-26-03-09
DESCRIPTION:
URL:https://mhd-formation.com/event/les-fondamentaux-du-coaching-26-03-09/
END:VEVENT
BEGIN:VEVENT
DTSTART;TZID=Europe/Paris:20260316T090000
DTEND;TZID=Europe/Paris:20260316T170000
DTSTAMP:20260426T013447
CREATED:20251214T122405Z
LAST-MODIFIED:20251215T083931Z
UID:10000345-1773651600-1773680400@mhd-formation.com
SUMMARY:PRATICIEN PNL-26-01-26
DESCRIPTION:
URL:https://mhd-formation.com/event/praticien-pnl-26-01-26-9/
LOCATION:Paris – Ivry sur Seine\, 33 bd de Brandebourg\, Ivry sur Seine\, 94200\, France
END:VEVENT
BEGIN:VEVENT
DTSTART;TZID=Europe/Paris:20260317T090000
DTEND;TZID=Europe/Paris:20260317T170000
DTSTAMP:20260426T013447
CREATED:20251214T122405Z
LAST-MODIFIED:20251215T083931Z
UID:10000346-1773738000-1773766800@mhd-formation.com
SUMMARY:PRATICIEN PNL-26-01-26
DESCRIPTION:
URL:https://mhd-formation.com/event/praticien-pnl-26-01-26-10/
LOCATION:Paris – Ivry sur Seine\, 33 bd de Brandebourg\, Ivry sur Seine\, 94200\, France
END:VEVENT
BEGIN:VEVENT
DTSTART;TZID=Europe/Paris:20260318T000000
DTEND;TZID=Europe/Paris:20260914T000000
DTSTAMP:20260426T013447
CREATED:20251214T122409Z
LAST-MODIFIED:20251215T083937Z
UID:10000347-1773792000-1789344000@mhd-formation.com
SUMMARY:FAVORISER ENGAGEMENT-26-03-18
DESCRIPTION:
URL:https://mhd-formation.com/event/favoriser-engagement-26-03-18/
END:VEVENT
BEGIN:VEVENT
DTSTART;TZID=Europe/Paris:20260318T090000
DTEND;TZID=Europe/Paris:20260318T170000
DTSTAMP:20260426T013447
CREATED:20251214T122410Z
LAST-MODIFIED:20251215T083937Z
UID:10000350-1773824400-1773853200@mhd-formation.com
SUMMARY:MAITRE PRATICIEN HYPNOSE-26-02-09
DESCRIPTION:
URL:https://mhd-formation.com/event/maitre-praticien-hypnose-26-02-09-8/
LOCATION:Paris – Ivry sur Seine\, 33 bd de Brandebourg\, Ivry sur Seine\, 94200\, France
END:VEVENT
BEGIN:VEVENT
DTSTART;TZID=Europe/Paris:20260318T090000
DTEND;TZID=Europe/Paris:20260318T170000
DTSTAMP:20260426T013447
CREATED:20251214T122410Z
LAST-MODIFIED:20251215T083937Z
UID:10000349-1773824400-1773853200@mhd-formation.com
SUMMARY:LES FONDAMENTAUX DU COACHING-26-02-19
DESCRIPTION:
URL:https://mhd-formation.com/event/les-fondamentaux-du-coaching-26-02-19-4/
END:VEVENT
BEGIN:VEVENT
DTSTART;TZID=Europe/Paris:20260318T140000
DTEND;TZID=Europe/Paris:20260318T180000
DTSTAMP:20260426T013447
CREATED:20251214T122410Z
LAST-MODIFIED:20251215T083937Z
UID:10000348-1773842400-1773856800@mhd-formation.com
SUMMARY:IDENTIFIER PROFIL MANAGEMENT-26-02-04
DESCRIPTION:
URL:https://mhd-formation.com/event/identifier-profil-management-26-02-04-3/
END:VEVENT
BEGIN:VEVENT
DTSTART;TZID=Europe/Paris:20260319T090000
DTEND;TZID=Europe/Paris:20260319T170000
DTSTAMP:20260426T013447
CREATED:20251214T122410Z
LAST-MODIFIED:20251215T083937Z
UID:10000351-1773910800-1773939600@mhd-formation.com
SUMMARY:LES FONDAMENTAUX DU COACHING-26-02-19
DESCRIPTION:
URL:https://mhd-formation.com/event/les-fondamentaux-du-coaching-26-02-19-5/
END:VEVENT
BEGIN:VEVENT
DTSTART;TZID=Europe/Paris:20260319T090000
DTEND;TZID=Europe/Paris:20260319T170000
DTSTAMP:20260426T013447
CREATED:20251214T122500Z
LAST-MODIFIED:20251215T083943Z
UID:10000352-1773910800-1773939600@mhd-formation.com
SUMMARY:MAITRE PRATICIEN HYPNOSE-26-02-09
DESCRIPTION:
URL:https://mhd-formation.com/event/maitre-praticien-hypnose-26-02-09-9/
LOCATION:Paris – Ivry sur Seine\, 33 bd de Brandebourg\, Ivry sur Seine\, 94200\, France
END:VEVENT
BEGIN:VEVENT
DTSTART;TZID=Europe/Paris:20260320T090000
DTEND;TZID=Europe/Paris:20260320T170000
DTSTAMP:20260426T013447
CREATED:20251214T122500Z
LAST-MODIFIED:20251215T083943Z
UID:10000353-1773997200-1774026000@mhd-formation.com
SUMMARY:COACHING ET MODELE D'HUDSON-26-03-20
DESCRIPTION:
URL:https://mhd-formation.com/event/coaching-et-modele-dhudson-26-03-20/
LOCATION:Paris – Ivry sur Seine\, 33 bd de Brandebourg\, Ivry sur Seine\, 94200\, France
END:VEVENT
BEGIN:VEVENT
DTSTART;TZID=Europe/Paris:20260320T090000
DTEND;TZID=Europe/Paris:20260320T170000
DTSTAMP:20260426T013448
CREATED:20251214T122500Z
LAST-MODIFIED:20251215T083943Z
UID:10000354-1773997200-1774026000@mhd-formation.com
SUMMARY:LES FONDAMENTAUX DU COACHING-26-02-19
DESCRIPTION:
URL:https://mhd-formation.com/event/les-fondamentaux-du-coaching-26-02-19-6/
END:VEVENT
BEGIN:VEVENT
DTSTART;TZID=Europe/Paris:20260320T090000
DTEND;TZID=Europe/Paris:20260320T170000
DTSTAMP:20260426T013448
CREATED:20251214T122500Z
LAST-MODIFIED:20251215T083943Z
UID:10000355-1773997200-1774026000@mhd-formation.com
SUMMARY:MAITRE PRATICIEN HYPNOSE-26-02-09
DESCRIPTION:
URL:https://mhd-formation.com/event/maitre-praticien-hypnose-26-02-09-10/
LOCATION:Paris – Ivry sur Seine\, 33 bd de Brandebourg\, Ivry sur Seine\, 94200\, France
END:VEVENT
BEGIN:VEVENT
DTSTART;TZID=Europe/Paris:20260321T090000
DTEND;TZID=Europe/Paris:20260321T170000
DTSTAMP:20260426T013448
CREATED:20251214T122500Z
LAST-MODIFIED:20251215T083943Z
UID:10000356-1774083600-1774112400@mhd-formation.com
SUMMARY:COACHING ET MODELE D'HUDSON-26-03-20
DESCRIPTION:
URL:https://mhd-formation.com/event/coaching-et-modele-dhudson-26-03-20-2/
LOCATION:Paris – Ivry sur Seine\, 33 bd de Brandebourg\, Ivry sur Seine\, 94200\, France
END:VEVENT
BEGIN:VEVENT
DTSTART;TZID=Europe/Paris:20260322T090000
DTEND;TZID=Europe/Paris:20260322T170000
DTSTAMP:20260426T013448
CREATED:20251214T122526Z
LAST-MODIFIED:20251215T083944Z
UID:10000357-1774170000-1774198800@mhd-formation.com
SUMMARY:COACHING ET MODELE D'HUDSON-26-03-20
DESCRIPTION:
URL:https://mhd-formation.com/event/coaching-et-modele-dhudson-26-03-20-3/
LOCATION:Paris – Ivry sur Seine\, 33 bd de Brandebourg\, Ivry sur Seine\, 94200\, France
CATEGORIES:Spécialisations coaching
END:VEVENT
BEGIN:VEVENT
DTSTART;TZID=Europe/Paris:20260323T000000
DTEND;TZID=Europe/Paris:20260611T000000
DTSTAMP:20260426T013448
CREATED:20251214T122526Z
LAST-MODIFIED:20251215T083944Z
UID:10000358-1774224000-1781136000@mhd-formation.com
SUMMARY:LES FONDAMENTAUX DU COACHING-26-03-23
DESCRIPTION:
URL:https://mhd-formation.com/event/les-fondamentaux-du-coaching-26-03-23/
CATEGORIES:Coaching
END:VEVENT
BEGIN:VEVENT
DTSTART;TZID=Europe/Paris:20260323T090000
DTEND;TZID=Europe/Paris:20260323T170000
DTSTAMP:20260426T013448
CREATED:20251214T122526Z
LAST-MODIFIED:20251215T083945Z
UID:10000359-1774256400-1774285200@mhd-formation.com
SUMMARY:LES FONDAMENTAUX DU COACHING-26-03-23
DESCRIPTION:
URL:https://mhd-formation.com/event/les-fondamentaux-du-coaching-26-03-23-2/
LOCATION:Paris – Ivry sur Seine\, 33 bd de Brandebourg\, Ivry sur Seine\, 94200\, France
CATEGORIES:Coaching
END:VEVENT
BEGIN:VEVENT
DTSTART;TZID=Europe/Paris:20260324T090000
DTEND;TZID=Europe/Paris:20260324T170000
DTSTAMP:20260426T013448
CREATED:20251214T122526Z
LAST-MODIFIED:20251215T083945Z
UID:10000360-1774342800-1774371600@mhd-formation.com
SUMMARY:LES FONDAMENTAUX DU COACHING-26-03-23
DESCRIPTION:
URL:https://mhd-formation.com/event/les-fondamentaux-du-coaching-26-03-23-3/
LOCATION:Paris – Ivry sur Seine\, 33 bd de Brandebourg\, Ivry sur Seine\, 94200\, France
CATEGORIES:Coaching
END:VEVENT
BEGIN:VEVENT
DTSTART;TZID=Europe/Paris:20260325T140000
DTEND;TZID=Europe/Paris:20260325T180000
DTSTAMP:20260426T013448
CREATED:20251214T122526Z
LAST-MODIFIED:20251215T083945Z
UID:10000361-1774447200-1774461600@mhd-formation.com
SUMMARY:CHARGE MENTALE DIRIGEANT-26-03-04
DESCRIPTION:
URL:https://mhd-formation.com/event/charge-mentale-dirigeant-26-03-04-2/
CATEGORIES:Management & Leadership
END:VEVENT
BEGIN:VEVENT
DTSTART;TZID=Europe/Paris:20260327T090000
DTEND;TZID=Europe/Paris:20260327T170000
DTSTAMP:20260426T013448
CREATED:20251214T122527Z
LAST-MODIFIED:20251215T083949Z
UID:10000362-1774602000-1774630800@mhd-formation.com
SUMMARY:COACHING D'ORIENTATION ET BILAN DE COMPETENCE-26-03-27
DESCRIPTION:
URL:https://mhd-formation.com/event/coaching-dorientation-et-bilan-de-competence-26-03-27/
LOCATION:Paris – Ivry sur Seine\, 33 bd de Brandebourg\, Ivry sur Seine\, 94200\, France
END:VEVENT
BEGIN:VEVENT
DTSTART;TZID=Europe/Paris:20260327T090000
DTEND;TZID=Europe/Paris:20260327T170000
DTSTAMP:20260426T013448
CREATED:20251214T122528Z
LAST-MODIFIED:20251215T083949Z
UID:10000363-1774602000-1774630800@mhd-formation.com
SUMMARY:INTRO APPROCHE SYSTEMIQUE-26-03-27
DESCRIPTION:
URL:https://mhd-formation.com/event/intro-approche-systemique-26-03-27/
LOCATION:Paris – Ivry sur Seine\, 33 bd de Brandebourg\, Ivry sur Seine\, 94200\, France
END:VEVENT
BEGIN:VEVENT
DTSTART;TZID=Europe/Paris:20260328T090000
DTEND;TZID=Europe/Paris:20260328T170000
DTSTAMP:20260426T013448
CREATED:20251214T122528Z
LAST-MODIFIED:20251215T083949Z
UID:10000366-1774688400-1774717200@mhd-formation.com
SUMMARY:INTRO APPROCHE SYSTEMIQUE-26-03-27
DESCRIPTION:
URL:https://mhd-formation.com/event/intro-approche-systemique-26-03-27-2/
LOCATION:Paris – Ivry sur Seine\, 33 bd de Brandebourg\, Ivry sur Seine\, 94200\, France
END:VEVENT
BEGIN:VEVENT
DTSTART;TZID=Europe/Paris:20260328T090000
DTEND;TZID=Europe/Paris:20260328T170000
DTSTAMP:20260426T013448
CREATED:20251214T122528Z
LAST-MODIFIED:20251215T083949Z
UID:10000364-1774688400-1774717200@mhd-formation.com
SUMMARY:COACHING D'EQUIPE-26-02-28
DESCRIPTION:
URL:https://mhd-formation.com/event/coaching-dequipe-26-02-28-3/
LOCATION:Paris – Ivry sur Seine\, 33 bd de Brandebourg\, Ivry sur Seine\, 94200\, France
END:VEVENT
BEGIN:VEVENT
DTSTART;TZID=Europe/Paris:20260328T090000
DTEND;TZID=Europe/Paris:20260328T170000
DTSTAMP:20260426T013448
CREATED:20251214T122528Z
LAST-MODIFIED:20251215T083949Z
UID:10000365-1774688400-1774717200@mhd-formation.com
SUMMARY:COACHING D'ORIENTATION ET BILAN DE COMPETENCE-26-03-27
DESCRIPTION:
URL:https://mhd-formation.com/event/coaching-dorientation-et-bilan-de-competence-26-03-27-2/
LOCATION:Paris – Ivry sur Seine\, 33 bd de Brandebourg\, Ivry sur Seine\, 94200\, France
END:VEVENT
BEGIN:VEVENT
DTSTART;TZID=Europe/Paris:20260329T090000
DTEND;TZID=Europe/Paris:20260329T170000
DTSTAMP:20260426T013448
CREATED:20251214T122529Z
LAST-MODIFIED:20251215T083950Z
UID:10000367-1774774800-1774803600@mhd-formation.com
SUMMARY:COACHING D'EQUIPE-26-02-28
DESCRIPTION:
URL:https://mhd-formation.com/event/coaching-dequipe-26-02-28-4/
LOCATION:Paris – Ivry sur Seine\, 33 bd de Brandebourg\, Ivry sur Seine\, 94200\, France
END:VEVENT
END:VCALENDAR