BEGIN:VCALENDAR
VERSION:2.0
PRODID:-//MHD Formation - ECPv6.15.20//NONSGML v1.0//EN
CALSCALE:GREGORIAN
METHOD:PUBLISH
X-WR-CALNAME:MHD Formation
X-ORIGINAL-URL:https://mhd-formation.com
X-WR-CALDESC:Évènements pour MHD Formation
REFRESH-INTERVAL;VALUE=DURATION:PT1H
X-Robots-Tag:noindex
X-PUBLISHED-TTL:PT1H
BEGIN:VTIMEZONE
TZID:Europe/Paris
BEGIN:DAYLIGHT
TZOFFSETFROM:+0100
TZOFFSETTO:+0200
TZNAME:CEST
DTSTART:20250330T010000
END:DAYLIGHT
BEGIN:STANDARD
TZOFFSETFROM:+0200
TZOFFSETTO:+0100
TZNAME:CET
DTSTART:20251026T010000
END:STANDARD
BEGIN:DAYLIGHT
TZOFFSETFROM:+0100
TZOFFSETTO:+0200
TZNAME:CEST
DTSTART:20260329T010000
END:DAYLIGHT
BEGIN:STANDARD
TZOFFSETFROM:+0200
TZOFFSETTO:+0100
TZNAME:CET
DTSTART:20261025T010000
END:STANDARD
BEGIN:DAYLIGHT
TZOFFSETFROM:+0100
TZOFFSETTO:+0200
TZNAME:CEST
DTSTART:20270328T010000
END:DAYLIGHT
BEGIN:STANDARD
TZOFFSETFROM:+0200
TZOFFSETTO:+0100
TZNAME:CET
DTSTART:20271031T010000
END:STANDARD
END:VTIMEZONE
BEGIN:VEVENT
DTSTART;TZID=Europe/Paris:20260302T000000
DTEND;TZID=Europe/Paris:20260521T000000
DTSTAMP:20260425T150946
CREATED:20251214T122347Z
LAST-MODIFIED:20251215T083849Z
UID:10000311-1772409600-1779321600@mhd-formation.com
SUMMARY:LES FONDAMENTAUX DU COACHING-26-03-02
DESCRIPTION:
URL:https://mhd-formation.com/event/les-fondamentaux-du-coaching-26-03-02/
END:VEVENT
BEGIN:VEVENT
DTSTART;TZID=Europe/Paris:20260304T000000
DTEND;TZID=Europe/Paris:20260831T000000
DTSTAMP:20260425T150946
CREATED:20251214T122352Z
LAST-MODIFIED:20251215T083915Z
UID:10000318-1772582400-1788134400@mhd-formation.com
SUMMARY:CHARGE MENTALE DIRIGEANT-26-03-04
DESCRIPTION:
URL:https://mhd-formation.com/event/charge-mentale-dirigeant-26-03-04/
END:VEVENT
BEGIN:VEVENT
DTSTART;TZID=Europe/Paris:20260309T000000
DTEND;TZID=Europe/Paris:20260508T000000
DTSTAMP:20260425T150946
CREATED:20251214T122357Z
LAST-MODIFIED:20251215T083921Z
UID:10000328-1773014400-1778198400@mhd-formation.com
SUMMARY:COACHER DES PROFILS NEURO-ATYPIQUES-26-03-09
DESCRIPTION:
URL:https://mhd-formation.com/event/coacher-des-profils-neuro-atypiques-26-03-09/
END:VEVENT
BEGIN:VEVENT
DTSTART;TZID=Europe/Paris:20260309T000000
DTEND;TZID=Europe/Paris:20260528T000000
DTSTAMP:20260425T150946
CREATED:20251214T122357Z
LAST-MODIFIED:20251215T083921Z
UID:10000330-1773014400-1779926400@mhd-formation.com
SUMMARY:LES FONDAMENTAUX DU COACHING-26-03-09
DESCRIPTION:
URL:https://mhd-formation.com/event/les-fondamentaux-du-coaching-26-03-09/
END:VEVENT
BEGIN:VEVENT
DTSTART;TZID=Europe/Paris:20260318T000000
DTEND;TZID=Europe/Paris:20260914T000000
DTSTAMP:20260425T150946
CREATED:20251214T122409Z
LAST-MODIFIED:20251215T083937Z
UID:10000347-1773792000-1789344000@mhd-formation.com
SUMMARY:FAVORISER ENGAGEMENT-26-03-18
DESCRIPTION:
URL:https://mhd-formation.com/event/favoriser-engagement-26-03-18/
END:VEVENT
BEGIN:VEVENT
DTSTART;TZID=Europe/Paris:20260323T000000
DTEND;TZID=Europe/Paris:20260611T000000
DTSTAMP:20260425T150946
CREATED:20251214T122526Z
LAST-MODIFIED:20251215T083944Z
UID:10000358-1774224000-1781136000@mhd-formation.com
SUMMARY:LES FONDAMENTAUX DU COACHING-26-03-23
DESCRIPTION:
URL:https://mhd-formation.com/event/les-fondamentaux-du-coaching-26-03-23/
CATEGORIES:Coaching
END:VEVENT
BEGIN:VEVENT
DTSTART;TZID=Europe/Paris:20260330T000000
DTEND;TZID=Europe/Paris:20260807T000000
DTSTAMP:20260425T150946
CREATED:20251214T122530Z
LAST-MODIFIED:20251215T083950Z
UID:10000370-1774828800-1786060800@mhd-formation.com
SUMMARY:QUALIFICATION COACH PROFESSIONNEL-26-03-30
DESCRIPTION:
URL:https://mhd-formation.com/event/qualification-coach-professionnel-26-03-30/
END:VEVENT
BEGIN:VEVENT
DTSTART;TZID=Europe/Paris:20260402T000000
DTEND;TZID=Europe/Paris:20260519T000000
DTSTAMP:20260425T150946
CREATED:20251214T122532Z
LAST-MODIFIED:20251215T083954Z
UID:10000376-1775088000-1779148800@mhd-formation.com
SUMMARY:COACHING D'EQUIPE-26-04-09
DESCRIPTION:
URL:https://mhd-formation.com/event/coaching-dequipe-26-04-09/
END:VEVENT
BEGIN:VEVENT
DTSTART;TZID=Europe/Paris:20260402T000000
DTEND;TZID=Europe/Paris:20260621T000000
DTSTAMP:20260425T150946
CREATED:20251214T122535Z
LAST-MODIFIED:20251215T083955Z
UID:10000378-1775088000-1782000000@mhd-formation.com
SUMMARY:LES FONDAMENTAUX DU COACHING-26-04-02
DESCRIPTION:
URL:https://mhd-formation.com/event/les-fondamentaux-du-coaching-26-04-02/
END:VEVENT
BEGIN:VEVENT
DTSTART;TZID=Europe/Paris:20260402T000000
DTEND;TZID=Europe/Paris:20260703T000000
DTSTAMP:20260425T150946
CREATED:20251214T122536Z
LAST-MODIFIED:20251215T083955Z
UID:10000380-1775088000-1783036800@mhd-formation.com
SUMMARY:RELATION D'AIDE-26-04-02
DESCRIPTION:
URL:https://mhd-formation.com/event/relation-daide-26-04-02/
END:VEVENT
BEGIN:VEVENT
DTSTART;TZID=Europe/Paris:20260411T000000
DTEND;TZID=Europe/Paris:20260521T000000
DTSTAMP:20260425T150946
CREATED:20251214T122543Z
LAST-MODIFIED:20251215T084010Z
UID:10000394-1775865600-1779321600@mhd-formation.com
SUMMARY:COACHING D'EQUIPE-26-04-11
DESCRIPTION:
URL:https://mhd-formation.com/event/coaching-dequipe-26-04-11/
END:VEVENT
BEGIN:VEVENT
DTSTART;TZID=Europe/Paris:20260420T000000
DTEND;TZID=Europe/Paris:20260709T000000
DTSTAMP:20260425T150946
CREATED:20251214T122550Z
LAST-MODIFIED:20251215T084013Z
UID:10000403-1776643200-1783555200@mhd-formation.com
SUMMARY:LES FONDAMENTAUX DU COACHING-26-04-20
DESCRIPTION:
URL:https://mhd-formation.com/event/les-fondamentaux-du-coaching-26-04-20/
END:VEVENT
BEGIN:VEVENT
DTSTART;TZID=Europe/Paris:20260425T090000
DTEND;TZID=Europe/Paris:20260425T170000
DTSTAMP:20260425T150946
CREATED:20251214T122557Z
LAST-MODIFIED:20251215T084017Z
UID:10000407-1777107600-1777136400@mhd-formation.com
SUMMARY:SOCLE COMMUN HYPNOSE PNL-26-04-11
DESCRIPTION:
URL:https://mhd-formation.com/event/socle-commun-hypnose-pnl-26-04-11-4/
LOCATION:Paris – Ivry sur Seine\, 33 bd de Brandebourg\, Ivry sur Seine\, 94200\, France
END:VEVENT
BEGIN:VEVENT
DTSTART;TZID=Europe/Paris:20260426T090000
DTEND;TZID=Europe/Paris:20260426T170000
DTSTAMP:20260425T150946
CREATED:20251214T122557Z
LAST-MODIFIED:20251215T084017Z
UID:10000408-1777194000-1777222800@mhd-formation.com
SUMMARY:SOCLE COMMUN HYPNOSE PNL-26-04-11
DESCRIPTION:
URL:https://mhd-formation.com/event/socle-commun-hypnose-pnl-26-04-11-5/
LOCATION:Paris – Ivry sur Seine\, 33 bd de Brandebourg\, Ivry sur Seine\, 94200\, France
END:VEVENT
BEGIN:VEVENT
DTSTART;TZID=Europe/Paris:20260427T090000
DTEND;TZID=Europe/Paris:20260427T170000
DTSTAMP:20260425T150946
CREATED:20251214T122557Z
LAST-MODIFIED:20251215T084017Z
UID:10000409-1777280400-1777309200@mhd-formation.com
SUMMARY:LES FONDAMENTAUX DU COACHING-26-03-23
DESCRIPTION:
URL:https://mhd-formation.com/event/les-fondamentaux-du-coaching-26-03-23-4/
LOCATION:Paris – Ivry sur Seine\, 33 bd de Brandebourg\, Ivry sur Seine\, 94200\, France
END:VEVENT
BEGIN:VEVENT
DTSTART;TZID=Europe/Paris:20260427T090000
DTEND;TZID=Europe/Paris:20260427T170000
DTSTAMP:20260425T150946
CREATED:20251214T122557Z
LAST-MODIFIED:20251215T084017Z
UID:10000410-1777280400-1777309200@mhd-formation.com
SUMMARY:PRATICIEN PNL-26-01-26
DESCRIPTION:
URL:https://mhd-formation.com/event/praticien-pnl-26-01-26-11/
END:VEVENT
BEGIN:VEVENT
DTSTART;TZID=Europe/Paris:20260428T090000
DTEND;TZID=Europe/Paris:20260428T170000
DTSTAMP:20260425T150946
CREATED:20251214T122557Z
LAST-MODIFIED:20251215T084017Z
UID:10000411-1777366800-1777395600@mhd-formation.com
SUMMARY:LES FONDAMENTAUX DU COACHING-26-03-23
DESCRIPTION:
URL:https://mhd-formation.com/event/les-fondamentaux-du-coaching-26-03-23-5/
LOCATION:Paris – Ivry sur Seine\, 33 bd de Brandebourg\, Ivry sur Seine\, 94200\, France
END:VEVENT
BEGIN:VEVENT
DTSTART;TZID=Europe/Paris:20260429T000000
DTEND;TZID=Europe/Paris:20260628T000000
DTSTAMP:20260425T150946
CREATED:20251214T122558Z
LAST-MODIFIED:20251215T084019Z
UID:10000412-1777420800-1782604800@mhd-formation.com
SUMMARY:COACHER DES PROFILS NEURO-ATYPIQUES-26-04-29
DESCRIPTION:
URL:https://mhd-formation.com/event/coacher-des-profils-neuro-atypiques-26-04-29/
END:VEVENT
BEGIN:VEVENT
DTSTART;TZID=Europe/Paris:20260429T090000
DTEND;TZID=Europe/Paris:20260429T130000
DTSTAMP:20260425T150946
CREATED:20251214T122558Z
LAST-MODIFIED:20251215T084019Z
UID:10000413-1777453200-1777467600@mhd-formation.com
SUMMARY:FAVORISER ENGAGEMENT-26-03-18
DESCRIPTION:
URL:https://mhd-formation.com/event/favoriser-engagement-26-03-18-3/
END:VEVENT
BEGIN:VEVENT
DTSTART;TZID=Europe/Paris:20260429T090000
DTEND;TZID=Europe/Paris:20260429T170000
DTSTAMP:20260425T150946
CREATED:20251214T122558Z
LAST-MODIFIED:20251215T084019Z
UID:10000414-1777453200-1777482000@mhd-formation.com
SUMMARY:LES FONDAMENTAUX DU COACHING-26-03-23
DESCRIPTION:
URL:https://mhd-formation.com/event/les-fondamentaux-du-coaching-26-03-23-6/
LOCATION:Paris – Ivry sur Seine\, 33 bd de Brandebourg\, Ivry sur Seine\, 94200\, France
END:VEVENT
BEGIN:VEVENT
DTSTART;TZID=Europe/Paris:20260430T000000
DTEND;TZID=Europe/Paris:20260629T000000
DTSTAMP:20260425T150946
CREATED:20251214T122558Z
LAST-MODIFIED:20251215T084019Z
UID:10000415-1777507200-1782691200@mhd-formation.com
SUMMARY:INITIATION A LA PRISE EN COMPTE DU HANDICAP-26-04-30
DESCRIPTION:
URL:https://mhd-formation.com/event/initiation-a-la-prise-en-compte-du-handicap-26-04-30/
END:VEVENT
BEGIN:VEVENT
DTSTART;TZID=Europe/Paris:20260430T000000
DTEND;TZID=Europe/Paris:20261017T000000
DTSTAMP:20260425T150946
CREATED:20251214T122559Z
LAST-MODIFIED:20251215T084019Z
UID:10000416-1777507200-1792195200@mhd-formation.com
SUMMARY:PREPARATION CERTIFICATION MHD RNCP-26-04-30
DESCRIPTION:
URL:https://mhd-formation.com/event/preparation-certification-mhd-rncp-26-04-30/
END:VEVENT
BEGIN:VEVENT
DTSTART;TZID=Europe/Paris:20260504T000000
DTEND;TZID=Europe/Paris:20260620T000000
DTSTAMP:20260425T150946
CREATED:20251214T122603Z
LAST-MODIFIED:20251215T084024Z
UID:10000417-1777852800-1781913600@mhd-formation.com
SUMMARY:COACHING D'EQUIPE-26-05-11
DESCRIPTION:
URL:https://mhd-formation.com/event/coaching-dequipe-26-05-11/
END:VEVENT
BEGIN:VEVENT
DTSTART;TZID=Europe/Paris:20260504T090000
DTEND;TZID=Europe/Paris:20260504T170000
DTSTAMP:20260425T150946
CREATED:20251214T122603Z
LAST-MODIFIED:20251215T084024Z
UID:10000419-1777885200-1777914000@mhd-formation.com
SUMMARY:LES FONDAMENTAUX DU COACHING-26-04-02
DESCRIPTION:
URL:https://mhd-formation.com/event/les-fondamentaux-du-coaching-26-04-02-4/
END:VEVENT
BEGIN:VEVENT
DTSTART;TZID=Europe/Paris:20260504T090000
DTEND;TZID=Europe/Paris:20260504T170000
DTSTAMP:20260425T150946
CREATED:20251214T122603Z
LAST-MODIFIED:20251215T084024Z
UID:10000420-1777885200-1777914000@mhd-formation.com
SUMMARY:RELATION D'AIDE-26-04-02
DESCRIPTION:
URL:https://mhd-formation.com/event/relation-daide-26-04-02-4/
LOCATION:Paris – Ivry sur Seine\, 33 bd de Brandebourg\, Ivry sur Seine\, 94200\, France
END:VEVENT
BEGIN:VEVENT
DTSTART;TZID=Europe/Paris:20260504T180000
DTEND;TZID=Europe/Paris:20260504T200000
DTSTAMP:20260425T150946
CREATED:20251214T122603Z
LAST-MODIFIED:20251215T084024Z
UID:10000418-1777917600-1777924800@mhd-formation.com
SUMMARY:COACHING D'EQUIPE-26-05-11
DESCRIPTION:
URL:https://mhd-formation.com/event/coaching-dequipe-26-05-11-2/
END:VEVENT
BEGIN:VEVENT
DTSTART;TZID=Europe/Paris:20260505T000000
DTEND;TZID=Europe/Paris:20261113T000000
DTSTAMP:20260425T150946
CREATED:20251214T122606Z
LAST-MODIFIED:20251215T084025Z
UID:10000422-1777939200-1794528000@mhd-formation.com
SUMMARY:PREPARATION ET CERTIFICATION COACH PRO RNCP-26-05-05
DESCRIPTION:
URL:https://mhd-formation.com/event/preparation-et-certification-coach-pro-rncp-26-05-05/
END:VEVENT
BEGIN:VEVENT
DTSTART;TZID=Europe/Paris:20260505T090000
DTEND;TZID=Europe/Paris:20260505T170000
DTSTAMP:20260425T150946
CREATED:20251214T122604Z
LAST-MODIFIED:20251215T084024Z
UID:10000421-1777971600-1778000400@mhd-formation.com
SUMMARY:LES FONDAMENTAUX DU COACHING-26-04-02
DESCRIPTION:
URL:https://mhd-formation.com/event/les-fondamentaux-du-coaching-26-04-02-5/
END:VEVENT
BEGIN:VEVENT
DTSTART;TZID=Europe/Paris:20260505T090000
DTEND;TZID=Europe/Paris:20260505T170000
DTSTAMP:20260425T150946
CREATED:20251214T122606Z
LAST-MODIFIED:20251215T084025Z
UID:10000423-1777971600-1778000400@mhd-formation.com
SUMMARY:RELATION D'AIDE-26-04-02
DESCRIPTION:
URL:https://mhd-formation.com/event/relation-daide-26-04-02-5/
LOCATION:Paris – Ivry sur Seine\, 33 bd de Brandebourg\, Ivry sur Seine\, 94200\, France
END:VEVENT
BEGIN:VEVENT
DTSTART;TZID=Europe/Paris:20260506T090000
DTEND;TZID=Europe/Paris:20260506T170000
DTSTAMP:20260425T150946
CREATED:20251214T122607Z
LAST-MODIFIED:20251215T084025Z
UID:10000424-1778058000-1778086800@mhd-formation.com
SUMMARY:COACHING D'EQUIPE-26-04-09
DESCRIPTION:
URL:https://mhd-formation.com/event/coaching-dequipe-26-04-09-3/
LOCATION:Paris – Ivry sur Seine\, 33 bd de Brandebourg\, Ivry sur Seine\, 94200\, France
END:VEVENT
END:VCALENDAR