BEGIN:VCALENDAR
VERSION:2.0
PRODID:-//MHD Formation - ECPv6.15.20//NONSGML v1.0//EN
CALSCALE:GREGORIAN
METHOD:PUBLISH
X-WR-CALNAME:MHD Formation
X-ORIGINAL-URL:https://mhd-formation.com
X-WR-CALDESC:Évènements pour MHD Formation
REFRESH-INTERVAL;VALUE=DURATION:PT1H
X-Robots-Tag:noindex
X-PUBLISHED-TTL:PT1H
BEGIN:VTIMEZONE
TZID:Europe/Paris
BEGIN:DAYLIGHT
TZOFFSETFROM:+0100
TZOFFSETTO:+0200
TZNAME:CEST
DTSTART:20250330T010000
END:DAYLIGHT
BEGIN:STANDARD
TZOFFSETFROM:+0200
TZOFFSETTO:+0100
TZNAME:CET
DTSTART:20251026T010000
END:STANDARD
BEGIN:DAYLIGHT
TZOFFSETFROM:+0100
TZOFFSETTO:+0200
TZNAME:CEST
DTSTART:20260329T010000
END:DAYLIGHT
BEGIN:STANDARD
TZOFFSETFROM:+0200
TZOFFSETTO:+0100
TZNAME:CET
DTSTART:20261025T010000
END:STANDARD
BEGIN:DAYLIGHT
TZOFFSETFROM:+0100
TZOFFSETTO:+0200
TZNAME:CEST
DTSTART:20270328T010000
END:DAYLIGHT
BEGIN:STANDARD
TZOFFSETFROM:+0200
TZOFFSETTO:+0100
TZNAME:CET
DTSTART:20271031T010000
END:STANDARD
END:VTIMEZONE
BEGIN:VEVENT
DTSTART;TZID=Europe/Paris:20260107T090000
DTEND;TZID=Europe/Paris:20260107T170000
DTSTAMP:20260426T013304
CREATED:20251214T110817Z
LAST-MODIFIED:20251215T083416Z
UID:10000201-1767776400-1767805200@mhd-formation.com
SUMMARY:MAITRE PRATICIEN PNL-25-05-19
DESCRIPTION:
URL:https://mhd-formation.com/event/maitre-praticien-pnl-25-05-19/
LOCATION:Paris – Ivry sur Seine\, 33 bd de Brandebourg\, Ivry sur Seine\, 94200\, France
CATEGORIES:Thérapies Brèves
END:VEVENT
BEGIN:VEVENT
DTSTART;TZID=Europe/Paris:20260106T180000
DTEND;TZID=Europe/Paris:20260106T200000
DTSTAMP:20260426T013304
CREATED:20251213T143211Z
LAST-MODIFIED:20251215T083413Z
UID:10000192-1767722400-1767729600@mhd-formation.com
SUMMARY:COACHING D'EQUIPE-26-01-10
DESCRIPTION:
URL:https://mhd-formation.com/event/coaching-dequipe-26-01-10-5/
CATEGORIES:Spécialisations coaching
END:VEVENT
BEGIN:VEVENT
DTSTART;TZID=Europe/Paris:20260105T140000
DTEND;TZID=Europe/Paris:20260105T180000
DTSTAMP:20260426T013304
CREATED:20251213T143209Z
LAST-MODIFIED:20251215T083413Z
UID:10000196-1767621600-1767636000@mhd-formation.com
SUMMARY:CHARGE MENTALE DIRIGEANT-25-12-09
DESCRIPTION:
URL:https://mhd-formation.com/event/charge-mentale-dirigeant-25-12-09-3/
CATEGORIES:Management & Leadership
END:VEVENT
BEGIN:VEVENT
DTSTART;TZID=Europe/Paris:20260105T090000
DTEND;TZID=Europe/Paris:20260105T130000
DTSTAMP:20260426T013304
CREATED:20251213T143209Z
LAST-MODIFIED:20251215T083413Z
UID:10000197-1767603600-1767618000@mhd-formation.com
SUMMARY:FAVORISER ENGAGEMENT-25-12-09
DESCRIPTION:
URL:https://mhd-formation.com/event/favoriser-engagement-25-12-09-3/
CATEGORIES:Management & Leadership
END:VEVENT
END:VCALENDAR