BEGIN:VCALENDAR
VERSION:2.0
PRODID:-//MHD Formation - ECPv6.15.20//NONSGML v1.0//EN
CALSCALE:GREGORIAN
METHOD:PUBLISH
X-WR-CALNAME:MHD Formation
X-ORIGINAL-URL:https://mhd-formation.com
X-WR-CALDESC:Évènements pour MHD Formation
REFRESH-INTERVAL;VALUE=DURATION:PT1H
X-Robots-Tag:noindex
X-PUBLISHED-TTL:PT1H
BEGIN:VTIMEZONE
TZID:Europe/Paris
BEGIN:DAYLIGHT
TZOFFSETFROM:+0100
TZOFFSETTO:+0200
TZNAME:CEST
DTSTART:20250330T010000
END:DAYLIGHT
BEGIN:STANDARD
TZOFFSETFROM:+0200
TZOFFSETTO:+0100
TZNAME:CET
DTSTART:20251026T010000
END:STANDARD
BEGIN:DAYLIGHT
TZOFFSETFROM:+0100
TZOFFSETTO:+0200
TZNAME:CEST
DTSTART:20260329T010000
END:DAYLIGHT
BEGIN:STANDARD
TZOFFSETFROM:+0200
TZOFFSETTO:+0100
TZNAME:CET
DTSTART:20261025T010000
END:STANDARD
BEGIN:DAYLIGHT
TZOFFSETFROM:+0100
TZOFFSETTO:+0200
TZNAME:CEST
DTSTART:20270328T010000
END:DAYLIGHT
BEGIN:STANDARD
TZOFFSETFROM:+0200
TZOFFSETTO:+0100
TZNAME:CET
DTSTART:20271031T010000
END:STANDARD
END:VTIMEZONE
BEGIN:VEVENT
DTSTART;TZID=Europe/Paris:20260105T090000
DTEND;TZID=Europe/Paris:20260105T130000
DTSTAMP:20260425T182045
CREATED:20251213T143209Z
LAST-MODIFIED:20251215T083413Z
UID:10000197-1767603600-1767618000@mhd-formation.com
SUMMARY:FAVORISER ENGAGEMENT-25-12-09
DESCRIPTION:
URL:https://mhd-formation.com/event/favoriser-engagement-25-12-09-3/
CATEGORIES:Management & Leadership
END:VEVENT
BEGIN:VEVENT
DTSTART;TZID=Europe/Paris:20260105T140000
DTEND;TZID=Europe/Paris:20260105T180000
DTSTAMP:20260425T182045
CREATED:20251213T143209Z
LAST-MODIFIED:20251215T083413Z
UID:10000196-1767621600-1767636000@mhd-formation.com
SUMMARY:CHARGE MENTALE DIRIGEANT-25-12-09
DESCRIPTION:
URL:https://mhd-formation.com/event/charge-mentale-dirigeant-25-12-09-3/
CATEGORIES:Management & Leadership
END:VEVENT
BEGIN:VEVENT
DTSTART;TZID=Europe/Paris:20260106T000000
DTEND;TZID=Europe/Paris:20260219T000000
DTSTAMP:20260425T182045
CREATED:20251213T143210Z
LAST-MODIFIED:20251215T083413Z
UID:10000200-1767657600-1771459200@mhd-formation.com
SUMMARY:COACHING D'EQUIPE-26-01-10
DESCRIPTION:
URL:https://mhd-formation.com/event/coaching-dequipe-26-01-10-4/
CATEGORIES:Spécialisations coaching
END:VEVENT
BEGIN:VEVENT
DTSTART;TZID=Europe/Paris:20260106T000000
DTEND;TZID=Europe/Paris:20260705T000000
DTSTAMP:20260425T182045
CREATED:20251213T143212Z
LAST-MODIFIED:20251215T083414Z
UID:10000193-1767657600-1783209600@mhd-formation.com
SUMMARY:CULTIVER LA RESILIENCE-26-01-06
DESCRIPTION:
URL:https://mhd-formation.com/event/cultiver-la-resilience-26-01-06-5/
CATEGORIES:Management & Leadership
END:VEVENT
BEGIN:VEVENT
DTSTART;TZID=Europe/Paris:20260106T180000
DTEND;TZID=Europe/Paris:20260106T200000
DTSTAMP:20260425T182045
CREATED:20251213T143211Z
LAST-MODIFIED:20251215T083413Z
UID:10000192-1767722400-1767729600@mhd-formation.com
SUMMARY:COACHING D'EQUIPE-26-01-10
DESCRIPTION:
URL:https://mhd-formation.com/event/coaching-dequipe-26-01-10-5/
CATEGORIES:Spécialisations coaching
END:VEVENT
BEGIN:VEVENT
DTSTART;TZID=Europe/Paris:20260107T090000
DTEND;TZID=Europe/Paris:20260107T170000
DTSTAMP:20260425T182045
CREATED:20251214T110817Z
LAST-MODIFIED:20251215T083416Z
UID:10000201-1767776400-1767805200@mhd-formation.com
SUMMARY:MAITRE PRATICIEN PNL-25-05-19
DESCRIPTION:
URL:https://mhd-formation.com/event/maitre-praticien-pnl-25-05-19/
LOCATION:Paris – Ivry sur Seine\, 33 bd de Brandebourg\, Ivry sur Seine\, 94200\, France
CATEGORIES:Thérapies Brèves
END:VEVENT
BEGIN:VEVENT
DTSTART;TZID=Europe/Paris:20260108T090000
DTEND;TZID=Europe/Paris:20260108T170000
DTSTAMP:20260425T182045
CREATED:20251214T110817Z
LAST-MODIFIED:20251215T083416Z
UID:10000203-1767862800-1767891600@mhd-formation.com
SUMMARY:COACHING D'EQUIPE-25-12-11
DESCRIPTION:
URL:https://mhd-formation.com/event/coaching-dequipe-25-12-11/
LOCATION:Paris – Ivry sur Seine\, 33 bd de Brandebourg\, Ivry sur Seine\, 94200\, France
CATEGORIES:Spécialisations coaching
END:VEVENT
BEGIN:VEVENT
DTSTART;TZID=Europe/Paris:20260108T090000
DTEND;TZID=Europe/Paris:20260108T170000
DTSTAMP:20260425T182045
CREATED:20251214T110818Z
LAST-MODIFIED:20251215T083416Z
UID:10000204-1767862800-1767891600@mhd-formation.com
SUMMARY:MAITRE PRATICIEN PNL-25-05-19
DESCRIPTION:
URL:https://mhd-formation.com/event/maitre-praticien-pnl-25-05-19-3/
LOCATION:Paris – Ivry sur Seine\, 33 bd de Brandebourg\, Ivry sur Seine\, 94200\, France
CATEGORIES:Thérapies Brèves
END:VEVENT
BEGIN:VEVENT
DTSTART;TZID=Europe/Paris:20260109T090000
DTEND;TZID=Europe/Paris:20260109T170000
DTSTAMP:20260425T182045
CREATED:20251214T122126Z
LAST-MODIFIED:20251215T083416Z
UID:10000205-1767949200-1767978000@mhd-formation.com
SUMMARY:COACHING D'EQUIPE-25-12-11
DESCRIPTION:
URL:https://mhd-formation.com/event/coaching-dequipe-25-12-11-2/
LOCATION:Paris – Ivry sur Seine\, 33 bd de Brandebourg\, Ivry sur Seine\, 94200\, France
CATEGORIES:Spécialisations coaching
END:VEVENT
BEGIN:VEVENT
DTSTART;TZID=Europe/Paris:20260109T090000
DTEND;TZID=Europe/Paris:20260109T170000
DTSTAMP:20260425T182045
CREATED:20251214T122126Z
LAST-MODIFIED:20251215T083416Z
UID:10000206-1767949200-1767978000@mhd-formation.com
SUMMARY:COACHING SCOLAIRE-26-01-09
DESCRIPTION:
URL:https://mhd-formation.com/event/coaching-scolaire-26-01-09/
LOCATION:Paris – Ivry sur Seine\, 33 bd de Brandebourg\, Ivry sur Seine\, 94200\, France
CATEGORIES:Spécialisations coaching
END:VEVENT
BEGIN:VEVENT
DTSTART;TZID=Europe/Paris:20260109T090000
DTEND;TZID=Europe/Paris:20260109T170000
DTSTAMP:20260425T182045
CREATED:20251214T122138Z
LAST-MODIFIED:20251215T083417Z
UID:10000207-1767949200-1767978000@mhd-formation.com
SUMMARY:MAITRE PRATICIEN PNL-25-05-19
DESCRIPTION:
URL:https://mhd-formation.com/event/maitre-praticien-pnl-25-05-19-4/
LOCATION:Paris – Ivry sur Seine\, 33 bd de Brandebourg\, Ivry sur Seine\, 94200\, France
END:VEVENT
BEGIN:VEVENT
DTSTART;TZID=Europe/Paris:20260110T090000
DTEND;TZID=Europe/Paris:20260110T170000
DTSTAMP:20260425T182045
CREATED:20251214T122138Z
LAST-MODIFIED:20251215T083417Z
UID:10000208-1768035600-1768064400@mhd-formation.com
SUMMARY:COACHING SCOLAIRE-26-01-09
DESCRIPTION:
URL:https://mhd-formation.com/event/coaching-scolaire-26-01-09-2/
LOCATION:Paris – Ivry sur Seine\, 33 bd de Brandebourg\, Ivry sur Seine\, 94200\, France
END:VEVENT
BEGIN:VEVENT
DTSTART;TZID=Europe/Paris:20260111T090000
DTEND;TZID=Europe/Paris:20260111T170000
DTSTAMP:20260425T182045
CREATED:20251214T122138Z
LAST-MODIFIED:20251215T083417Z
UID:10000209-1768122000-1768150800@mhd-formation.com
SUMMARY:COACHING SCOLAIRE-26-01-09
DESCRIPTION:
URL:https://mhd-formation.com/event/coaching-scolaire-26-01-09-3/
LOCATION:Paris – Ivry sur Seine\, 33 bd de Brandebourg\, Ivry sur Seine\, 94200\, France
END:VEVENT
BEGIN:VEVENT
DTSTART;TZID=Europe/Paris:20260112T000000
DTEND;TZID=Europe/Paris:20260228T000000
DTSTAMP:20260425T182045
CREATED:20251214T122138Z
LAST-MODIFIED:20251215T083417Z
UID:10000210-1768176000-1772236800@mhd-formation.com
SUMMARY:COACHING D'EQUIPE-26-01-19
DESCRIPTION:
URL:https://mhd-formation.com/event/coaching-dequipe-26-01-19/
END:VEVENT
BEGIN:VEVENT
DTSTART;TZID=Europe/Paris:20260112T090000
DTEND;TZID=Europe/Paris:20260112T130000
DTSTAMP:20260425T182045
CREATED:20251214T122240Z
LAST-MODIFIED:20251215T083429Z
UID:10000214-1768208400-1768222800@mhd-formation.com
SUMMARY:REGULER LES CONFLITS-25-11-24
DESCRIPTION:
URL:https://mhd-formation.com/event/reguler-les-conflits-25-11-24-4/
END:VEVENT
BEGIN:VEVENT
DTSTART;TZID=Europe/Paris:20260112T090000
DTEND;TZID=Europe/Paris:20260112T130000
DTSTAMP:20260425T182045
CREATED:20251214T122241Z
LAST-MODIFIED:20251215T083429Z
UID:10000215-1768208400-1768222800@mhd-formation.com
SUMMARY:REGULER LES CONFLITS-25-11-25
DESCRIPTION:
URL:https://mhd-formation.com/event/reguler-les-conflits-25-11-25-4/
END:VEVENT
BEGIN:VEVENT
DTSTART;TZID=Europe/Paris:20260112T090000
DTEND;TZID=Europe/Paris:20260112T170000
DTSTAMP:20260425T182045
CREATED:20251214T122240Z
LAST-MODIFIED:20251215T083429Z
UID:10000213-1768208400-1768237200@mhd-formation.com
SUMMARY:LES FONDAMENTAUX DU COACHING-25-12-08
DESCRIPTION:
URL:https://mhd-formation.com/event/les-fondamentaux-du-coaching-25-12-08/
LOCATION:Paris – Ivry sur Seine\, 33 bd de Brandebourg\, Ivry sur Seine\, 94200\, France
END:VEVENT
BEGIN:VEVENT
DTSTART;TZID=Europe/Paris:20260112T140000
DTEND;TZID=Europe/Paris:20260112T180000
DTSTAMP:20260425T182045
CREATED:20251214T122240Z
LAST-MODIFIED:20251215T083428Z
UID:10000212-1768226400-1768240800@mhd-formation.com
SUMMARY:IDENTIFIER PROFIL MANAGEMENT-25-11-25
DESCRIPTION:
URL:https://mhd-formation.com/event/identifier-profil-management-25-11-25-4/
END:VEVENT
BEGIN:VEVENT
DTSTART;TZID=Europe/Paris:20260112T180000
DTEND;TZID=Europe/Paris:20260112T200000
DTSTAMP:20260425T182045
CREATED:20251214T122139Z
LAST-MODIFIED:20251215T083417Z
UID:10000211-1768240800-1768248000@mhd-formation.com
SUMMARY:COACHING D'EQUIPE-26-01-19
DESCRIPTION:
URL:https://mhd-formation.com/event/coaching-dequipe-26-01-19-2/
END:VEVENT
BEGIN:VEVENT
DTSTART;TZID=Europe/Paris:20260113T090000
DTEND;TZID=Europe/Paris:20260113T170000
DTSTAMP:20260425T182045
CREATED:20251214T122241Z
LAST-MODIFIED:20251215T083429Z
UID:10000216-1768294800-1768323600@mhd-formation.com
SUMMARY:LES FONDAMENTAUX DU COACHING-25-12-08
DESCRIPTION:
URL:https://mhd-formation.com/event/les-fondamentaux-du-coaching-25-12-08-2/
LOCATION:Paris – Ivry sur Seine\, 33 bd de Brandebourg\, Ivry sur Seine\, 94200\, France
END:VEVENT
BEGIN:VEVENT
DTSTART;TZID=Europe/Paris:20260114T000000
DTEND;TZID=Europe/Paris:20260713T000000
DTSTAMP:20260425T182045
CREATED:20251214T122243Z
LAST-MODIFIED:20251215T083437Z
UID:10000217-1768348800-1783900800@mhd-formation.com
SUMMARY:EQUIPE DANS LA DIVERSITE-26-01-14
DESCRIPTION:
URL:https://mhd-formation.com/event/equipe-dans-la-diversite-26-01-14/
CATEGORIES:Management & Leadership
END:VEVENT
BEGIN:VEVENT
DTSTART;TZID=Europe/Paris:20260114T090000
DTEND;TZID=Europe/Paris:20260114T170000
DTSTAMP:20260425T182045
CREATED:20251214T122243Z
LAST-MODIFIED:20251215T083437Z
UID:10000218-1768381200-1768410000@mhd-formation.com
SUMMARY:LES FONDAMENTAUX DU COACHING-25-12-08
DESCRIPTION:
URL:https://mhd-formation.com/event/les-fondamentaux-du-coaching-25-12-08-3/
LOCATION:Paris – Ivry sur Seine\, 33 bd de Brandebourg\, Ivry sur Seine\, 94200\, France
CATEGORIES:Coaching
END:VEVENT
BEGIN:VEVENT
DTSTART;TZID=Europe/Paris:20260114T090000
DTEND;TZID=Europe/Paris:20260114T170000
DTSTAMP:20260425T182045
CREATED:20251214T122243Z
LAST-MODIFIED:20251215T083437Z
UID:10000219-1768381200-1768410000@mhd-formation.com
SUMMARY:LES FONDAMENTAUX DU COACHING-25-12-11
DESCRIPTION:
URL:https://mhd-formation.com/event/les-fondamentaux-du-coaching-25-12-11/
CATEGORIES:Coaching
END:VEVENT
BEGIN:VEVENT
DTSTART;TZID=Europe/Paris:20260115T000000
DTEND;TZID=Europe/Paris:20260714T000000
DTSTAMP:20260425T182045
CREATED:20251214T122243Z
LAST-MODIFIED:20251215T083437Z
UID:10000221-1768435200-1783987200@mhd-formation.com
SUMMARY:TITRE PROFESSIONNEL FORMATEUR POUR ADULTES-26-01-21
DESCRIPTION:
URL:https://mhd-formation.com/event/titre-professionnel-formateur-pour-adultes-26-01-21/
CATEGORIES:Formateur
END:VEVENT
BEGIN:VEVENT
DTSTART;TZID=Europe/Paris:20260115T090000
DTEND;TZID=Europe/Paris:20260115T170000
DTSTAMP:20260425T182045
CREATED:20251214T122243Z
LAST-MODIFIED:20251215T083437Z
UID:10000220-1768467600-1768496400@mhd-formation.com
SUMMARY:LES FONDAMENTAUX DU COACHING-25-12-11
DESCRIPTION:
URL:https://mhd-formation.com/event/les-fondamentaux-du-coaching-25-12-11-2/
CATEGORIES:Coaching
END:VEVENT
BEGIN:VEVENT
DTSTART;TZID=Europe/Paris:20260116T090000
DTEND;TZID=Europe/Paris:20260116T170000
DTSTAMP:20260425T182045
CREATED:20251214T122245Z
LAST-MODIFIED:20251215T083517Z
UID:10000222-1768554000-1768582800@mhd-formation.com
SUMMARY:CERTIFICATION RS 5242-26-01-16
DESCRIPTION:
URL:https://mhd-formation.com/event/certification-rs-5242-26-01-16/
END:VEVENT
BEGIN:VEVENT
DTSTART;TZID=Europe/Paris:20260116T090000
DTEND;TZID=Europe/Paris:20260116T170000
DTSTAMP:20260425T182045
CREATED:20251214T122245Z
LAST-MODIFIED:20251215T083517Z
UID:10000223-1768554000-1768582800@mhd-formation.com
SUMMARY:LES FONDAMENTAUX DU COACHING-25-12-11
DESCRIPTION:
URL:https://mhd-formation.com/event/les-fondamentaux-du-coaching-25-12-11-3/
END:VEVENT
BEGIN:VEVENT
DTSTART;TZID=Europe/Paris:20260119T000000
DTEND;TZID=Europe/Paris:20260409T000000
DTSTAMP:20260425T182045
CREATED:20251214T122245Z
LAST-MODIFIED:20251215T083517Z
UID:10000224-1768780800-1775692800@mhd-formation.com
SUMMARY:LES FONDAMENTAUX DU COACHING-26-01-19
DESCRIPTION:
URL:https://mhd-formation.com/event/les-fondamentaux-du-coaching-26-01-19/
END:VEVENT
BEGIN:VEVENT
DTSTART;TZID=Europe/Paris:20260119T090000
DTEND;TZID=Europe/Paris:20260119T170000
DTSTAMP:20260425T182045
CREATED:20251214T122245Z
LAST-MODIFIED:20251215T083517Z
UID:10000225-1768813200-1768842000@mhd-formation.com
SUMMARY:LES FONDAMENTAUX DU COACHING-26-01-19
DESCRIPTION:
URL:https://mhd-formation.com/event/les-fondamentaux-du-coaching-26-01-19-2/
LOCATION:Paris – Ivry sur Seine\, 33 bd de Brandebourg\, Ivry sur Seine\, 94200\, France
END:VEVENT
BEGIN:VEVENT
DTSTART;TZID=Europe/Paris:20260120T090000
DTEND;TZID=Europe/Paris:20260120T170000
DTSTAMP:20260425T182045
CREATED:20251214T122245Z
LAST-MODIFIED:20251215T083517Z
UID:10000226-1768899600-1768928400@mhd-formation.com
SUMMARY:LES FONDAMENTAUX DU COACHING-26-01-19
DESCRIPTION:
URL:https://mhd-formation.com/event/les-fondamentaux-du-coaching-26-01-19-3/
LOCATION:Paris – Ivry sur Seine\, 33 bd de Brandebourg\, Ivry sur Seine\, 94200\, France
END:VEVENT
END:VCALENDAR