BEGIN:VCALENDAR
VERSION:2.0
PRODID:-//MHD Formation - ECPv6.15.20//NONSGML v1.0//EN
CALSCALE:GREGORIAN
METHOD:PUBLISH
X-WR-CALNAME:MHD Formation
X-ORIGINAL-URL:https://mhd-formation.com
X-WR-CALDESC:Évènements pour MHD Formation
REFRESH-INTERVAL;VALUE=DURATION:PT1H
X-Robots-Tag:noindex
X-PUBLISHED-TTL:PT1H
BEGIN:VTIMEZONE
TZID:Europe/Paris
BEGIN:DAYLIGHT
TZOFFSETFROM:+0100
TZOFFSETTO:+0200
TZNAME:CEST
DTSTART:20250330T010000
END:DAYLIGHT
BEGIN:STANDARD
TZOFFSETFROM:+0200
TZOFFSETTO:+0100
TZNAME:CET
DTSTART:20251026T010000
END:STANDARD
BEGIN:DAYLIGHT
TZOFFSETFROM:+0100
TZOFFSETTO:+0200
TZNAME:CEST
DTSTART:20260329T010000
END:DAYLIGHT
BEGIN:STANDARD
TZOFFSETFROM:+0200
TZOFFSETTO:+0100
TZNAME:CET
DTSTART:20261025T010000
END:STANDARD
BEGIN:DAYLIGHT
TZOFFSETFROM:+0100
TZOFFSETTO:+0200
TZNAME:CEST
DTSTART:20270328T010000
END:DAYLIGHT
BEGIN:STANDARD
TZOFFSETFROM:+0200
TZOFFSETTO:+0100
TZNAME:CET
DTSTART:20271031T010000
END:STANDARD
END:VTIMEZONE
BEGIN:VEVENT
DTSTART;TZID=Europe/Paris:20260303T090000
DTEND;TZID=Europe/Paris:20260303T170000
DTSTAMP:20260423T182333
CREATED:20251214T122348Z
LAST-MODIFIED:20251215T083911Z
UID:10000316-1772528400-1772557200@mhd-formation.com
SUMMARY:PRATICIEN HYPNOSE-26-03-02
DESCRIPTION:
URL:https://mhd-formation.com/event/praticien-hypnose-26-03-02-2/
LOCATION:Paris – Ivry sur Seine\, 33 bd de Brandebourg\, Ivry sur Seine\, 94200\, France
CATEGORIES:Thérapies Brèves
END:VEVENT
BEGIN:VEVENT
DTSTART;TZID=Europe/Paris:20260302T090000
DTEND;TZID=Europe/Paris:20260302T170000
DTSTAMP:20260423T182333
CREATED:20251214T122348Z
LAST-MODIFIED:20251215T083911Z
UID:10000314-1772442000-1772470800@mhd-formation.com
SUMMARY:PRATICIEN PNL-26-01-26
DESCRIPTION:
URL:https://mhd-formation.com/event/praticien-pnl-26-01-26-6/
LOCATION:Paris – Ivry sur Seine\, 33 bd de Brandebourg\, Ivry sur Seine\, 94200\, France
CATEGORIES:Thérapies Brèves
END:VEVENT
BEGIN:VEVENT
DTSTART;TZID=Europe/Paris:20260302T090000
DTEND;TZID=Europe/Paris:20260302T170000
DTSTAMP:20260423T182333
CREATED:20251214T122348Z
LAST-MODIFIED:20251215T083911Z
UID:10000313-1772442000-1772470800@mhd-formation.com
SUMMARY:PRATICIEN HYPNOSE-26-03-02
DESCRIPTION:
URL:https://mhd-formation.com/event/praticien-hypnose-26-03-02/
LOCATION:Paris – Ivry sur Seine\, 33 bd de Brandebourg\, Ivry sur Seine\, 94200\, France
CATEGORIES:Thérapies Brèves
END:VEVENT
BEGIN:VEVENT
DTSTART;TZID=Europe/Paris:20260215T090000
DTEND;TZID=Europe/Paris:20260215T170000
DTSTAMP:20260423T182333
CREATED:20251214T122326Z
LAST-MODIFIED:20251215T083805Z
UID:10000285-1771146000-1771174800@mhd-formation.com
SUMMARY:INITIATION AUX PSYCHOPATHOLOGIES-26-02-12
DESCRIPTION:
URL:https://mhd-formation.com/event/initiation-aux-psychopathologies-26-02-12-4/
LOCATION:Paris – Ivry sur Seine\, 33 bd de Brandebourg\, Ivry sur Seine\, 94200\, France
CATEGORIES:Thérapies Brèves
END:VEVENT
BEGIN:VEVENT
DTSTART;TZID=Europe/Paris:20260214T090000
DTEND;TZID=Europe/Paris:20260214T170000
DTSTAMP:20260423T182333
CREATED:20251214T122325Z
LAST-MODIFIED:20251215T083804Z
UID:10000282-1771059600-1771088400@mhd-formation.com
SUMMARY:INITIATION AUX PSYCHOPATHOLOGIES-26-02-12
DESCRIPTION:
URL:https://mhd-formation.com/event/initiation-aux-psychopathologies-26-02-12-3/
LOCATION:Paris – Ivry sur Seine\, 33 bd de Brandebourg\, Ivry sur Seine\, 94200\, France
CATEGORIES:Thérapies Brèves
END:VEVENT
BEGIN:VEVENT
DTSTART;TZID=Europe/Paris:20260202T090000
DTEND;TZID=Europe/Paris:20260202T170000
DTSTAMP:20260423T182333
CREATED:20251214T122259Z
LAST-MODIFIED:20251215T083632Z
UID:10000246-1770022800-1770051600@mhd-formation.com
SUMMARY:SOCLE COMMUN HYPNOSE PNL-26-02-02
DESCRIPTION:
URL:https://mhd-formation.com/event/socle-commun-hypnose-pnl-26-02-02/
LOCATION:Paris – Ivry sur Seine\, 33 bd de Brandebourg\, Ivry sur Seine\, 94200\, France
CATEGORIES:Thérapies Brèves
END:VEVENT
BEGIN:VEVENT
DTSTART;TZID=Europe/Paris:20260128T090000
DTEND;TZID=Europe/Paris:20260128T170000
DTSTAMP:20260423T182333
CREATED:20251214T122258Z
LAST-MODIFIED:20251215T083631Z
UID:10000242-1769590800-1769619600@mhd-formation.com
SUMMARY:PRATICIEN PNL-26-01-26
DESCRIPTION:
URL:https://mhd-formation.com/event/praticien-pnl-26-01-26-3/
LOCATION:Paris – Ivry sur Seine\, 33 bd de Brandebourg\, Ivry sur Seine\, 94200\, France
CATEGORIES:Thérapies Brèves
END:VEVENT
BEGIN:VEVENT
DTSTART;TZID=Europe/Paris:20260123T090000
DTEND;TZID=Europe/Paris:20260123T170000
DTSTAMP:20260423T182333
CREATED:20251214T122255Z
LAST-MODIFIED:20251215T083607Z
UID:10000232-1769158800-1769187600@mhd-formation.com
SUMMARY:INTRO APPROCHE SYSTEMIQUE-26-01-21
DESCRIPTION:
URL:https://mhd-formation.com/event/intro-approche-systemique-26-01-21-3/
LOCATION:Paris – Ivry sur Seine\, 33 bd de Brandebourg\, Ivry sur Seine\, 94200\, France
CATEGORIES:Thérapies Brèves
END:VEVENT
BEGIN:VEVENT
DTSTART;TZID=Europe/Paris:20260108T090000
DTEND;TZID=Europe/Paris:20260108T170000
DTSTAMP:20260423T182333
CREATED:20251214T110818Z
LAST-MODIFIED:20251215T083416Z
UID:10000204-1767862800-1767891600@mhd-formation.com
SUMMARY:MAITRE PRATICIEN PNL-25-05-19
DESCRIPTION:
URL:https://mhd-formation.com/event/maitre-praticien-pnl-25-05-19-3/
LOCATION:Paris – Ivry sur Seine\, 33 bd de Brandebourg\, Ivry sur Seine\, 94200\, France
CATEGORIES:Thérapies Brèves
END:VEVENT
BEGIN:VEVENT
DTSTART;TZID=Europe/Paris:20260107T090000
DTEND;TZID=Europe/Paris:20260107T170000
DTSTAMP:20260423T182333
CREATED:20251214T110817Z
LAST-MODIFIED:20251215T083416Z
UID:10000201-1767776400-1767805200@mhd-formation.com
SUMMARY:MAITRE PRATICIEN PNL-25-05-19
DESCRIPTION:
URL:https://mhd-formation.com/event/maitre-praticien-pnl-25-05-19/
LOCATION:Paris – Ivry sur Seine\, 33 bd de Brandebourg\, Ivry sur Seine\, 94200\, France
CATEGORIES:Thérapies Brèves
END:VEVENT
END:VCALENDAR